BEGIN:VCALENDAR
VERSION:2.0
PRODID:-//meetXR - ECPv5.8.0//NONSGML v1.0//EN
CALSCALE:GREGORIAN
METHOD:PUBLISH
X-WR-CALNAME:meetXR
X-ORIGINAL-URL:https://www.meetxr.de
X-WR-CALDESC:Veranstaltungen für meetXR
BEGIN:VTIMEZONE
TZID:Europe/Berlin
BEGIN:DAYLIGHT
TZOFFSETFROM:+0100
TZOFFSETTO:+0200
TZNAME:CEST
DTSTART:20190331T010000
END:DAYLIGHT
BEGIN:STANDARD
TZOFFSETFROM:+0200
TZOFFSETTO:+0100
TZNAME:CET
DTSTART:20191027T010000
END:STANDARD
END:VTIMEZONE
BEGIN:VEVENT
DTSTART;VALUE=DATE:20190410
DTEND;VALUE=DATE:20190413
DTSTAMP:20260425T200046
CREATED:20190105T172824Z
LAST-MODIFIED:20190105T172824Z
UID:942-1554865200-1555037999@www.meetxr.de
SUMMARY:hub.berlin
DESCRIPTION:hub.berlin is one of the most important technology festivals in Europe. \nWith two full days of inspiring keynotes\, lectures & discussions\, interactive workshops & masterclasses\, live tech demonstrations\, and an unforgettable club night\, we create a vibrant community to shape the digital transformation of Europe in the economy\, politics\, and science! \nHosted by Bitkom\, Germany’s digital association which represents 2\,500+ companies of the digital economy\, hub.berlin gathers a highly valuable business community (50% C-Level).
URL:https://www.meetxr.de/event/hub-berlin/
LOCATION:STATION Berlin\, Luckenwalder Str. 4-6\, Berlin\, 10963\, Deutschland
CATEGORIES:play,talk
ATTACH;FMTTYPE=image/png:https://www.meetxr.de/wp-content/uploads/2019/01/2019-04-10_hubBerlin.png
END:VEVENT
END:VCALENDAR