BEGIN:VCALENDAR
VERSION:2.0
PRODID:-//meetXR - ECPv5.8.0//NONSGML v1.0//EN
CALSCALE:GREGORIAN
METHOD:PUBLISH
X-WR-CALNAME:meetXR
X-ORIGINAL-URL:https://www.meetxr.de
X-WR-CALDESC:Veranstaltungen für meetXR
BEGIN:VTIMEZONE
TZID:Europe/Berlin
BEGIN:DAYLIGHT
TZOFFSETFROM:+0100
TZOFFSETTO:+0200
TZNAME:CEST
DTSTART:20180325T010000
END:DAYLIGHT
BEGIN:STANDARD
TZOFFSETFROM:+0200
TZOFFSETTO:+0100
TZNAME:CET
DTSTART:20181028T010000
END:STANDARD
END:VTIMEZONE
BEGIN:VEVENT
DTSTART;TZID=Europe/Berlin:20180929T120000
DTEND;TZID=Europe/Berlin:20180929T200000
DTSTAMP:20260425T222237
CREATED:20180814T223347Z
LAST-MODIFIED:20180818T103342Z
UID:23-1538222400-1538251200@www.meetxr.de
SUMMARY:HANNOVR #8
DESCRIPTION:Number 8 of our regular Virtual Reality\, Augmented Reality and 360° video Conference in Hannover\, Germany. Speakers & Schedule will be announced soon. \nSAVE THE DATE and have a great summer!
URL:https://www.meetxr.de/event/hannovr-8/
LOCATION:Künstlerhaus Hannover\, Sophienstraße 2\, Hannover\, 30159\, Deutschland
CATEGORIES:talk
ATTACH;FMTTYPE=image/jpeg:https://www.meetxr.de/wp-content/uploads/2018/08/Hannovr_8.jpeg
END:VEVENT
END:VCALENDAR