BEGIN:VCALENDAR
VERSION:2.0
PRODID:-//meetXR - ECPv5.8.0//NONSGML v1.0//EN
CALSCALE:GREGORIAN
METHOD:PUBLISH
X-WR-CALNAME:meetXR
X-ORIGINAL-URL:https://www.meetxr.de
X-WR-CALDESC:Veranstaltungen für meetXR
BEGIN:VTIMEZONE
TZID:Europe/Berlin
BEGIN:DAYLIGHT
TZOFFSETFROM:+0100
TZOFFSETTO:+0200
TZNAME:CEST
DTSTART:20190331T010000
END:DAYLIGHT
BEGIN:STANDARD
TZOFFSETFROM:+0200
TZOFFSETTO:+0100
TZNAME:CET
DTSTART:20191027T010000
END:STANDARD
END:VTIMEZONE
BEGIN:VEVENT
DTSTART;TZID=Europe/Berlin:20190401T090000
DTEND;TZID=Europe/Berlin:20190405T180000
DTSTAMP:20260425T234929
CREATED:20190212T225124Z
LAST-MODIFIED:20190212T225124Z
UID:1255-1554109200-1554487200@www.meetxr.de
SUMMARY:Hannover Messe
DESCRIPTION:Montag\, 01. bis Freitag\, 05. April 2019\, täglich von 9 – 18 Uhr: Alle Schlüsseltechnologien und Kernbereiche der Industrie an einem Ort – von Forschung und Entwicklung\, Industrieautomation und IT über Zulieferung\, Produktionstechnologien und Dienstleistungen bis hin zu Energie und Mobilitätstechnologien. Profitieren Sie von den vielfältigen Synergien\, die Ihnen die HANNOVER MESSE bietet. Willkommen im globalen Hotspot der Industrie! \nLeitmesse: DIGITAL FACTORY\nIm Haus der digitalen Pioniere! \nDie datenbasierte Integration sämtlicher Wertschöpfungsprozesse ist der entscheidende Faktor für die Wettbewerbsfähigkeit der produzierenden Industrie. In der Digital Factory werden IT- und Softwarelösungen vorgestellt\, die genau diese datentechnische Verbindung zwischen Entwicklung\, Produktion und Lieferanten ermöglicht: Software für die virtuelle Produktentwicklung\, für Fertigungsplanung und -steuerung und für vorausschauende Analysten stehen hier im Mittelpunkt. Und Konzepte\, mit denen sich die Datenmassen in der digitalen Fabrik sicher verteilen lassen.
URL:https://www.meetxr.de/event/hannover-messe/
LOCATION:Messegelände Hannover\, Hannover\, 30521\, Deutschland
CATEGORIES:play,talk
ATTACH;FMTTYPE=image/jpeg:https://www.meetxr.de/wp-content/uploads/2019/02/2019-04-01_HannoverMesse.jpg
END:VEVENT
END:VCALENDAR