BEGIN:VCALENDAR
VERSION:2.0
PRODID:-//meetXR - ECPv5.8.0//NONSGML v1.0//EN
CALSCALE:GREGORIAN
METHOD:PUBLISH
X-WR-CALNAME:meetXR
X-ORIGINAL-URL:https://www.meetxr.de
X-WR-CALDESC:Veranstaltungen für meetXR
BEGIN:VTIMEZONE
TZID:Europe/Berlin
BEGIN:DAYLIGHT
TZOFFSETFROM:+0100
TZOFFSETTO:+0200
TZNAME:CEST
DTSTART:20190331T010000
END:DAYLIGHT
BEGIN:STANDARD
TZOFFSETFROM:+0200
TZOFFSETTO:+0100
TZNAME:CET
DTSTART:20191027T010000
END:STANDARD
END:VTIMEZONE
BEGIN:VEVENT
DTSTART;TZID=Europe/Berlin:20190920T160000
DTEND;TZID=Europe/Berlin:20190922T180000
DTSTAMP:20260425T222137
CREATED:20190822T164910Z
LAST-MODIFIED:20190822T164910Z
UID:1854-1568995200-1569175200@www.meetxr.de
SUMMARY:Hackathon Bremen 2019
DESCRIPTION:BIST DU DER HERR DER DINGE?\nDann komm zum Inudustrie 4.0 Hackathon Bremen 2019! \nNach den beiden erfolgreichen Hackathons im vergangenen Jahr geht es im September 2019 mit dem Hackathon Bremen in die dritte Runde. Erneut heißt es: IDEATE / NETWORK / PROTOTYPE / PITCH! \nBeim vom DOCK ONE mit der Unterstützung der Lenze Gruppe (Lenze Digital\, encoway und logicline) organisierten Hackathon Bremen demonstriert die Entwickler-Community aus der Region\, was sich in 48 Stunden von der Idee bis zur prototypischen Implementierung in kleinen Teams umsetzen lässt. \nSoftwareentwickler\, Designer\, Daten- und Industrieexperten\, Marketer sowie Bastler aus Maker-Szene entdecken\, was die von verschiedenen Partnern bereitgestellten Plattformen und Ökosysteme zu bieten haben und liefern kreative und spannende Umsetzungsideen für vernetzte Produkte\, Apps und Services. Willkommen sind Studendierende\, Wissenschaftler\, Praktiker und Start-ups\, die Lust haben\, gemeinsam an der Industrie von morgen zu arbeiten. \nDer Fokus des Hackathon Bremen liegt auf B2B-Anwendungen im Kontext von Industrie 4.0. Den Hackathon-Teilnehmern steht eine Vielzahl von Gadgets\, wie beispielsweise 3D-Drucker\, Raspberry PI\, Arduino\, Beacons oder Kinect zur Verfügung\, die sie für die Entwicklung ihrer Prototypen frei nutzen können. Hier haben sie die Möglichkeit ihr Können auf den Gebieten Cloud\, Mobile und IoT an echten Industriemaschinen dem Publikum und der Jury zu demonstrieren und attraktive Preise abzuräumen. \nWeitere Informationen auf www.hackathon-bremen.de
URL:https://www.meetxr.de/event/hackathon-bremen-2019/
LOCATION:Kraftwerk City Accelerator\, An der Weide 50a\, Bremen\, 28195\, Deutschland
CATEGORIES:hack
ATTACH;FMTTYPE=image/jpeg:https://www.meetxr.de/wp-content/uploads/2019/08/2019-09-20_HackerthonBremen.jpg
END:VEVENT
END:VCALENDAR