BEGIN:VCALENDAR
VERSION:2.0
PRODID:-//meetXR - ECPv5.8.0//NONSGML v1.0//EN
CALSCALE:GREGORIAN
METHOD:PUBLISH
X-WR-CALNAME:meetXR
X-ORIGINAL-URL:https://www.meetxr.de
X-WR-CALDESC:Veranstaltungen für meetXR
BEGIN:VTIMEZONE
TZID:Europe/Berlin
BEGIN:DAYLIGHT
TZOFFSETFROM:+0100
TZOFFSETTO:+0200
TZNAME:CEST
DTSTART:20210328T010000
END:DAYLIGHT
BEGIN:STANDARD
TZOFFSETFROM:+0200
TZOFFSETTO:+0100
TZNAME:CET
DTSTART:20211031T010000
END:STANDARD
END:VTIMEZONE
BEGIN:VEVENT
DTSTART;TZID=Europe/Berlin:20210401T194500
DTEND;TZID=Europe/Berlin:20210401T210000
DTSTAMP:20260425T201531
CREATED:20210322T182436Z
LAST-MODIFIED:20210322T182436Z
UID:2936-1617306300-1617310800@www.meetxr.de
SUMMARY:Global XR Talks Special - Microsoft Mesh Panel
DESCRIPTION:On April 1st we bring you the very first Global XR Talks Special! \nA panel on Microsoft Mesh\, Microsoft’s new XR collaboration platform that is set to change the future of Mixed\, Augmented and Virtual Reality. \nWith hot new information straight from Microsoft and well known Microsoft MVPs\, host Jesse McCulloch and a brilliant lineup of speakers (Simon Skaria\, Dorrene Brown\, René Schulte\, Ivana Tilca and Joost van Schaik) are joined by our own Saskia Groenewegen and Alexander Meijers for an hour of inspiration and innovation. \nJoin us for this very special event\, streamed live to YouTube.
URL:https://www.meetxr.de/event/global-xr-talks-special-microsoft-mesh-panel/
LOCATION:Online Event\, online
CATEGORIES:talk
ATTACH;FMTTYPE=image/png:https://www.meetxr.de/wp-content/uploads/2021/03/2021-04-01_GlobalXRTalks.png
END:VEVENT
END:VCALENDAR