BEGIN:VCALENDAR
VERSION:2.0
PRODID:-//meetXR - ECPv5.8.0//NONSGML v1.0//EN
CALSCALE:GREGORIAN
METHOD:PUBLISH
X-WR-CALNAME:meetXR
X-ORIGINAL-URL:https://www.meetxr.de
X-WR-CALDESC:Veranstaltungen für meetXR
BEGIN:VTIMEZONE
TZID:Europe/Berlin
BEGIN:DAYLIGHT
TZOFFSETFROM:+0100
TZOFFSETTO:+0200
TZNAME:CEST
DTSTART:20210328T010000
END:DAYLIGHT
BEGIN:STANDARD
TZOFFSETFROM:+0200
TZOFFSETTO:+0100
TZNAME:CET
DTSTART:20211031T010000
END:STANDARD
END:VTIMEZONE
BEGIN:VEVENT
DTSTART;TZID=Europe/Berlin:20210922T190000
DTEND;TZID=Europe/Berlin:20210922T220000
DTSTAMP:20260425T200235
CREATED:20210111T140030Z
LAST-MODIFIED:20210816T164948Z
UID:3004-1632337200-1632348000@www.meetxr.de
SUMMARY:Global XR Talks – September
DESCRIPTION:Internet of Senses is coming… and it will not take 10 years by Pedro Ferreira\nMixed Reality for Cultural Heritage – Zaid Zaim \nLive sessions start at CET 19:00 / PT 10:00 \nYouTube channel (watch the talks here):\nhttps://www.youtube.com/globalxrcommunity \nCET 19:00-19:50\nPT 10:00-10:50\nXR Session 1 – Internet of Senses is coming… and it will not take 10 years\nWe all enjoy 5 human senses in everyday life: we drink aromatic coffee\, caress our pets\, feel rain on our faces and inhale beautiful scent of rose bouquet. But what if we can transmit these senses over oceans to reach dearest people miles away? This is not a sci-fi theory\, this is happening now! Thanks to the modern technologies (which someone may call futuristic) we are able not only transmit senses\, but also have an embodiment experience to feel fully the world around us. In his talk\, Pedro will share his vision about the Internet of Senses and its application to extend our physical reality to unlimited ones and the importance of stimuli-transmition for people with physical limitations.\nSpeakers: Pedro Ferreira \nBreak \nCET 20:00-20:50\nPT 11:00-11:50\nXR Session 2 – Mixed Reality for Cultural Heritage\nZaid is going to share his journey and exiprience on how he came to Mixed Reality and working with HoloLens.\nThen He will take the audience on a journey to the ancient city of Palmyra (UNSECO Cultural Heritage site in Syria ) and will demonstrate within his talk a live demo with HoloLens 2 bringing Palmyras monuments back to life.\nSpeaker: Zaid Zaim \nCET 20:50 – 21:30\nPT 11:50-12:30\nVirtual socializing (40min)\nSocialize in the Global XR Community zone in AltSpaceVR\nhttps://account.altvr.com/channels/globalxrtalks\nInvitation code: DJF886 \nMore information about our events can be found at https://www.globalxrtalks.com
URL:https://www.meetxr.de/event/global-xr-talks-september/
LOCATION:AltspaceVR\, AltspaceVR
CATEGORIES:talk
ATTACH;FMTTYPE=image/jpeg:https://www.meetxr.de/wp-content/uploads/2021/01/2021-09-22_GlobalXRTalks.jpeg
END:VEVENT
END:VCALENDAR