BEGIN:VCALENDAR
VERSION:2.0
PRODID:-//meetXR - ECPv5.8.0//NONSGML v1.0//EN
CALSCALE:GREGORIAN
METHOD:PUBLISH
X-WR-CALNAME:meetXR
X-ORIGINAL-URL:https://www.meetxr.de
X-WR-CALDESC:Veranstaltungen für meetXR
BEGIN:VTIMEZONE
TZID:Europe/Berlin
BEGIN:DAYLIGHT
TZOFFSETFROM:+0100
TZOFFSETTO:+0200
TZNAME:CEST
DTSTART:20210328T010000
END:DAYLIGHT
BEGIN:STANDARD
TZOFFSETFROM:+0200
TZOFFSETTO:+0100
TZNAME:CET
DTSTART:20211031T010000
END:STANDARD
END:VTIMEZONE
BEGIN:VEVENT
DTSTART;TZID=Europe/Berlin:20211117T190000
DTEND;TZID=Europe/Berlin:20211117T220000
DTSTAMP:20260425T200232
CREATED:20210111T140030Z
LAST-MODIFIED:20210816T165330Z
UID:3170-1637175600-1637186400@www.meetxr.de
SUMMARY:Global XR Talks – November
DESCRIPTION:XR Session 1 – TBA\nXR Session 2 – TBA \nCET 19:00-19:50 / PT 10:00-10:50\nXR Session 1 – TBA\nSpeaker(s): TBA \nBreak \nCET 20:00-20:50 / PT 11:00-11:50\nXR Session 2 – TBA\nSpeaker(s): TBA \nCET 20:50 – 21:30 / PT 11:50-12:30\nVirtual socializing (40min)\nSocialize in the Global XR Community zone in AltSpaceVR\nAltSpaceVR channel (open from 20:00 CET for socializing)\nhttps://account.altvr.com/channels/globalxrtalks \nMore information about our events can be found at https://www.globalxrtalks.com
URL:https://www.meetxr.de/event/global-xr-talks-november/
LOCATION:AltspaceVR\, AltspaceVR
CATEGORIES:talk
ATTACH;FMTTYPE=image/png:https://www.meetxr.de/wp-content/uploads/2020/11/2020-12-02_GlobalXRTalks.png
END:VEVENT
END:VCALENDAR