BEGIN:VCALENDAR
VERSION:2.0
PRODID:-//meetXR - ECPv5.8.0//NONSGML v1.0//EN
CALSCALE:GREGORIAN
METHOD:PUBLISH
X-WR-CALNAME:meetXR
X-ORIGINAL-URL:https://www.meetxr.de
X-WR-CALDESC:Veranstaltungen für meetXR
BEGIN:VTIMEZONE
TZID:Europe/Berlin
BEGIN:DAYLIGHT
TZOFFSETFROM:+0100
TZOFFSETTO:+0200
TZNAME:CEST
DTSTART:20220327T010000
END:DAYLIGHT
BEGIN:STANDARD
TZOFFSETFROM:+0200
TZOFFSETTO:+0100
TZNAME:CET
DTSTART:20221030T010000
END:STANDARD
END:VTIMEZONE
BEGIN:VEVENT
DTSTART;TZID=Europe/Berlin:20220331T170000
DTEND;TZID=Europe/Berlin:20220331T183000
DTSTAMP:20260425T171328
CREATED:20210111T140030Z
LAST-MODIFIED:20220209T115816Z
UID:3822-1648746000-1648751400@www.meetxr.de
SUMMARY:Global XR Talks @ metaverse – March
DESCRIPTION:Event start at CET 17:00 / PT 8:00 \nEvery event\, streamed or metaverse\, is broadcasted to YouTube. After the event the broadcast will be made available after 1 week on YouTube to view it again. Make sure to join the live session to be up-to-date with the latest XR News and talk. \nAltspaceVR (join the talk here):\nAltspaceVR code: [Code will follow] \nYouTube channel (watch the talk here):\nhttps://www.youtube.com/globalxrcommunity \nCET 17:00 / PT 8:00\nWelcome & News in XR \nCET 17:15 / PT 8:15\nXR Talk – [Talk description will follow]\nXR Speaker – [Talk speaker will follow]\nDuration: 45 minutes \nCET 18:00 / PT 9:00\nQuestion & Answers \nCET 18:15 / PT 9:15\nFinalize & see you next time! \nMore information about our events can be found at https://globalxr.community
URL:https://www.meetxr.de/event/global-xr-talks-metaverse-march/
LOCATION:AltspaceVR\, AltspaceVR
CATEGORIES:talk
ATTACH;FMTTYPE=image/jpeg:https://www.meetxr.de/wp-content/uploads/2021/01/2022-03-31_GlobalXRTalks.jpeg
END:VEVENT
END:VCALENDAR