BEGIN:VCALENDAR
VERSION:2.0
PRODID:-//meetXR - ECPv5.8.0//NONSGML v1.0//EN
CALSCALE:GREGORIAN
METHOD:PUBLISH
X-WR-CALNAME:meetXR
X-ORIGINAL-URL:https://www.meetxr.de
X-WR-CALDESC:Veranstaltungen für meetXR
BEGIN:VTIMEZONE
TZID:Europe/Berlin
BEGIN:DAYLIGHT
TZOFFSETFROM:+0100
TZOFFSETTO:+0200
TZNAME:CEST
DTSTART:20210328T010000
END:DAYLIGHT
BEGIN:STANDARD
TZOFFSETFROM:+0200
TZOFFSETTO:+0100
TZNAME:CET
DTSTART:20211031T010000
END:STANDARD
END:VTIMEZONE
BEGIN:VEVENT
DTSTART;TZID=Europe/Berlin:20210317T190000
DTEND;TZID=Europe/Berlin:20210317T220000
DTSTAMP:20260425T211824
CREATED:20210111T140030Z
LAST-MODIFIED:20210305T143126Z
UID:2821-1616007600-1616018400@www.meetxr.de
SUMMARY:Global XR Talks – March
DESCRIPTION:XR Session 1 – VR/AR Rehabilitation: It’s Not Only About Healthcare\nXR Session 2 – XR at the Dutch Police \nCET 19:00-19:50\nPT 10:00-10:50\nXR Session 1 – VR/AR Rehabilitation: It’s Not Only About Healthcare\nAn immersive talk on the great initiatives of VR/AR smart solutions for rehabilitation goals. The new rehabilitation is a must: fast\, measurable\, techy oriented\, and goals achieved. In this session\, you will learn how to develop the architecture of solution aimed to help the targeted group to reach healthcare goals with existing solutions.\nSpeakers: Marina Petrakova – CEO and co-founder of VREACH startup\, co-founder of XR community of Latvia\nLinda Lancere – Digital Physical Therapy\, Human Wellbeing Strengthening Implementor \nBreak \nCET 20:00-20:50\nPT 11:00-11:50\nXR Session 2 – XR at the Dutch Police\nLast years we experimented with all kind of XR solution. This was for training\, forensics and in VR\, AR en MR.\nI like to share our experiences with this community.\nSpeaker: Gerard ten Buuren – Dutch Police\, technology advisor \nCET 20:50 – 21:30\nPT 11:50-12:30\nVirtual socializing (40min)\nSocialize in the Global XR Community zone in AltSpaceVR\nAltSpaceVR channel (open from 20:00 CET for socializing)\nhttps://account.altvr.com/channels/globalxrtalks \nMore information about our events can be found at https://www.globalxrtalks.com
URL:https://www.meetxr.de/event/global-xr-talks-march/
LOCATION:AltspaceVR\, AltspaceVR
CATEGORIES:talk
ATTACH;FMTTYPE=image/png:https://www.meetxr.de/wp-content/uploads/2021/01/2021-03-17_GlobalXRTalks.png
END:VEVENT
END:VCALENDAR