BEGIN:VCALENDAR
VERSION:2.0
PRODID:-//meetXR - ECPv5.8.0//NONSGML v1.0//EN
CALSCALE:GREGORIAN
METHOD:PUBLISH
X-WR-CALNAME:meetXR
X-ORIGINAL-URL:https://www.meetxr.de
X-WR-CALDESC:Veranstaltungen für meetXR
BEGIN:VTIMEZONE
TZID:Europe/Berlin
BEGIN:DAYLIGHT
TZOFFSETFROM:+0100
TZOFFSETTO:+0200
TZNAME:CEST
DTSTART:20210328T010000
END:DAYLIGHT
BEGIN:STANDARD
TZOFFSETFROM:+0200
TZOFFSETTO:+0100
TZNAME:CET
DTSTART:20211031T010000
END:STANDARD
END:VTIMEZONE
BEGIN:VEVENT
DTSTART;TZID=Europe/Berlin:20210120T190000
DTEND;TZID=Europe/Berlin:20210120T213000
DTSTAMP:20260425T201624
CREATED:20210111T140030Z
LAST-MODIFIED:20210111T140030Z
UID:2790-1611169200-1611178200@www.meetxr.de
SUMMARY:Global XR Talks – January
DESCRIPTION:Live sessions at CEST 19u / PST 10u \nAltSpaceVR channel: https://account.altvr.com/channels/globalxrtalks\nYouTube channel: https://www.youtube.com/channel/UCDfrUZRLfwN2FgYZxXe6_MA \nCEST 18u30-19u\nPST 9u30-10u\nOpening doors and virtual drinks (30min)\nTake your time to get ready and see who is also attending the session. \nCEST 19u-19u40\nPST 10u-10u40\nXR Session (40min) – 8 practical tips for designing an engaging user experience in SharePoint spaces\nDesigning user experiences for web pages is a skill which is being honed for years but with the arrival of SharePoint Spaces a new layer is added to the existing palette. With a new perspective and a 360 degree canvas the way spaces are designed and build will require extra effort. How do you keep a virtual environment effective? Where is the fine line between a gimmick and a useful tool? We provide you with 8 practical tips to get a great start in the world of user friendly virtual reality.\nSpeaker: Roel Kooistra\, ShareValue \nCEST 19u50-20u30\nPST 10u50-11u30\nXR Session (40min) – MRTK and Oculus … creating a small game in less than an hour!?\nJoin me in this session\, I will guide you through the creation of an XR application\, for Oculus Quest using Unity and the Mixed Reality Toolkit.\nSpeaker: Ivan Tilca\, MVP\, 3XM Group \nCEST 20u30 – 21u30\nPST 11u30-12u30\nVirtual socialize (60min)\nSocialize in the Global XR Community zone in AltSpaceVR \nMore information about the event\, how to join the Global XR Community Zone can be found at https://www.globalxrtalks.com
URL:https://www.meetxr.de/event/global-xr-talks-january/
LOCATION:AltspaceVR\, AltspaceVR
CATEGORIES:talk
ATTACH;FMTTYPE=image/png:https://www.meetxr.de/wp-content/uploads/2021/01/2021-01-20_XRTalks.png
END:VEVENT
END:VCALENDAR