BEGIN:VCALENDAR
VERSION:2.0
PRODID:-//meetXR - ECPv5.8.0//NONSGML v1.0//EN
CALSCALE:GREGORIAN
METHOD:PUBLISH
X-WR-CALNAME:meetXR
X-ORIGINAL-URL:https://www.meetxr.de
X-WR-CALDESC:Veranstaltungen für meetXR
BEGIN:VTIMEZONE
TZID:Europe/Berlin
BEGIN:DAYLIGHT
TZOFFSETFROM:+0100
TZOFFSETTO:+0200
TZNAME:CEST
DTSTART:20210328T010000
END:DAYLIGHT
BEGIN:STANDARD
TZOFFSETFROM:+0200
TZOFFSETTO:+0100
TZNAME:CET
DTSTART:20211031T010000
END:STANDARD
END:VTIMEZONE
BEGIN:VEVENT
DTSTART;TZID=Europe/Berlin:20210217T190000
DTEND;TZID=Europe/Berlin:20210217T220000
DTSTAMP:20260425T201649
CREATED:20210111T140030Z
LAST-MODIFIED:20210111T140825Z
UID:2793-1613588400-1613599200@www.meetxr.de
SUMMARY:Global XR Talks – February
DESCRIPTION:Live sessions at CEST 19u / PST 10u \nAltSpaceVR channel: https://account.altvr.com/channels/globalxrtalks\nYouTube channel: https://www.youtube.com/channel/UCDfrUZRLfwN2FgYZxXe6_MA \nCEST 18u30-19u\nPST 9u30-10u\nOpening doors and virtual drinks (30min)\nTake your time to get ready and see who is also attending the session. \nCEST 19u-19u50\nPST 10u-10u50\nXR Session – Session 1 \nCEST 20u-20u50\nPST 11u-11u50\nXR Session – Session 2 \nCEST 20u50 – 22u\nPST 11u50-13u\nVirtual socialize (60min)\nSocialize in the Global XR Community zone in AltSpaceVR \nMore information about the event\, how to join the Global XR Community Zone can be found at https://www.globalxrtalks.com
URL:https://www.meetxr.de/event/global-xr-talks-february/
LOCATION:AltspaceVR\, AltspaceVR
CATEGORIES:talk
ATTACH;FMTTYPE=image/png:https://www.meetxr.de/wp-content/uploads/2020/11/2020-12-02_GlobalXRTalks.png
END:VEVENT
END:VCALENDAR