BEGIN:VCALENDAR
VERSION:2.0
PRODID:-//meetXR - ECPv5.8.0//NONSGML v1.0//EN
CALSCALE:GREGORIAN
METHOD:PUBLISH
X-WR-CALNAME:meetXR
X-ORIGINAL-URL:https://www.meetxr.de
X-WR-CALDESC:Veranstaltungen für meetXR
BEGIN:VTIMEZONE
TZID:Europe/Berlin
BEGIN:DAYLIGHT
TZOFFSETFROM:+0100
TZOFFSETTO:+0200
TZNAME:CEST
DTSTART:20210328T010000
END:DAYLIGHT
BEGIN:STANDARD
TZOFFSETFROM:+0200
TZOFFSETTO:+0100
TZNAME:CET
DTSTART:20211031T010000
END:STANDARD
END:VTIMEZONE
BEGIN:VEVENT
DTSTART;TZID=Europe/Berlin:20210421T190000
DTEND;TZID=Europe/Berlin:20210421T220000
DTSTAMP:20260425T201624
CREATED:20210111T140030Z
LAST-MODIFIED:20210305T143139Z
UID:2855-1619031600-1619042400@www.meetxr.de
SUMMARY:Global XR Talks – April
DESCRIPTION:XR Session – Reimagining Tourism through Extended Reality\nXR Session – Building WebXR Apps for the HoloLens \nCEST 18u30-19u\nPST 9u30-10u\nOpening doors and virtual drinks (30min)\nTake your time to get ready and see who is also attending the session. \nCEST 19u-19u50\nPST 10u-10u50\nXR Session – Reimagining Tourism through Extended Reality\nWith the restart of global tourism due to the Covid-19 pandemic\, there has been a considerable demand for the use of technology\, especially immersive technologies\, to help restart tourism as more users now engage with a virtual experience of destinations they would love to visit online. I will be sharing insights\, current solutions on how virtual reality\, augmented reality can be used as a massive tool for destination experiences and content development to boost tourism globally.\nSpeaker: Arome Ibrahim – 360VR Developer\, Co-Founder – Experis Immersive \nCEST 20u-20u50\nPST 11u-11u50\nXR Session – Building WebXR Apps for the HoloLens\nMicrosoft recently released the Chromium version of Microsoft Edge for HoloLens. This means that a lot of Web APIs that weren’t previously available now can be used\, like the WebXR Device API for example. By building a simple game\, I’ll show you how you can use WebXR and other APIs on the HoloLens.\nSpeaker: Timmy Kokke – Lead Developer ⍟ Software Architect ⍟ Mobile\, Web and VR/AR Developer ⍟ Microsoft MVP at Velicus \nCEST 20u50 – 22u\nPST 11u50-13u\nVirtual socialize (60min)\nSocialize in the Global XR Community zone in AltSpaceVR\nAltSpaceVR channel: https://account.altvr.com/channels/globalxrtalks \nMore information about the event\, how to join the Global XR Community Zone can be found at https://www.globalxrtalks.com
URL:https://www.meetxr.de/event/global-xr-talks-april/
LOCATION:AltspaceVR\, AltspaceVR
CATEGORIES:talk
ATTACH;FMTTYPE=image/png:https://www.meetxr.de/wp-content/uploads/2021/01/2021-04-21_GlobalXRtalks.png
END:VEVENT
END:VCALENDAR