BEGIN:VCALENDAR
VERSION:2.0
PRODID:-//meetXR - ECPv5.8.0//NONSGML v1.0//EN
CALSCALE:GREGORIAN
METHOD:PUBLISH
X-WR-CALNAME:meetXR
X-ORIGINAL-URL:https://www.meetxr.de
X-WR-CALDESC:Veranstaltungen für meetXR
BEGIN:VTIMEZONE
TZID:Europe/Berlin
BEGIN:DAYLIGHT
TZOFFSETFROM:+0100
TZOFFSETTO:+0200
TZNAME:CEST
DTSTART:20220327T010000
END:DAYLIGHT
BEGIN:STANDARD
TZOFFSETFROM:+0200
TZOFFSETTO:+0100
TZNAME:CET
DTSTART:20221030T010000
END:STANDARD
END:VTIMEZONE
BEGIN:VEVENT
DTSTART;TZID=Europe/Berlin:20220317T170000
DTEND;TZID=Europe/Berlin:20220317T180000
DTSTAMP:20260425T185004
CREATED:20210111T140030Z
LAST-MODIFIED:20220209T120231Z
UID:3819-1647536400-1647540000@www.meetxr.de
SUMMARY:Global XR Quiz – March
DESCRIPTION:Meet in AltspaceVR with everyone else from the XR Community and take part at our XR quiz. \nEvent start at CET 17:00 / PT 8:00\nEvent ends at CET 18:00 / PT 9:00 \nMore information about our events can be found at https://globalxr.community
URL:https://www.meetxr.de/event/global-xr-quiz-march/
LOCATION:AltspaceVR\, AltspaceVR
CATEGORIES:talk
ATTACH;FMTTYPE=image/jpeg:https://www.meetxr.de/wp-content/uploads/2021/01/2022-03-17_GlobalXRQuiz.jpeg
END:VEVENT
END:VCALENDAR