BEGIN:VCALENDAR
VERSION:2.0
PRODID:-//meetXR - ECPv5.8.0//NONSGML v1.0//EN
CALSCALE:GREGORIAN
METHOD:PUBLISH
X-WR-CALNAME:meetXR
X-ORIGINAL-URL:https://www.meetxr.de
X-WR-CALDESC:Veranstaltungen für meetXR
BEGIN:VTIMEZONE
TZID:Europe/Berlin
BEGIN:DAYLIGHT
TZOFFSETFROM:+0100
TZOFFSETTO:+0200
TZNAME:CEST
DTSTART:20200329T010000
END:DAYLIGHT
BEGIN:STANDARD
TZOFFSETFROM:+0200
TZOFFSETTO:+0100
TZNAME:CET
DTSTART:20201025T010000
END:STANDARD
END:VTIMEZONE
BEGIN:VEVENT
DTSTART;VALUE=DATE:20201113
DTEND;VALUE=DATE:20201116
DTSTAMP:20260425T184922
CREATED:20201102T110832Z
LAST-MODIFIED:20201102T110832Z
UID:2763-1605236400-1605409199@www.meetxr.de
SUMMARY:Global XR Bootcamp 2020
DESCRIPTION:The Online Global XR Bootcamp 2020 will be the biggest online Virtual\, Augmented and Mixed Reality event in the world. The event will consist of a 24 hour live stream of high quality sessions by global speakers planned around the world through all the timezones. \nAnd that is not all! Organizers have the ability to organize an online meetup in virtual reality as a community gathering\, and if they want to\, even with the ability to host sessions by local heroes. As organizer you have the choice to organize online activities at one or two days  and even which part of the day suits your group the best. \nBe part of this great community and sign up as organizer or sign up as attendee at one of the many online events taking place all over the world. Watch content about virtual reality\, augmented reality\, mixed reality\, WebXR and related technologies like machine learning and AI brought to you by local heroes\, or just stop by to meet with others from the local community.
URL:https://www.meetxr.de/event/global-xr-bootcamp-2020/
LOCATION:Online Event\, online
CATEGORIES:talk
ATTACH;FMTTYPE=image/png:https://www.meetxr.de/wp-content/uploads/2020/11/2020-11-13_GlobalXRBootcamp.png
END:VEVENT
END:VCALENDAR