BEGIN:VCALENDAR
VERSION:2.0
PRODID:-//meetXR - ECPv5.8.0//NONSGML v1.0//EN
CALSCALE:GREGORIAN
METHOD:PUBLISH
X-WR-CALNAME:meetXR
X-ORIGINAL-URL:https://www.meetxr.de
X-WR-CALDESC:Veranstaltungen für meetXR
BEGIN:VTIMEZONE
TZID:Europe/Berlin
BEGIN:DAYLIGHT
TZOFFSETFROM:+0100
TZOFFSETTO:+0200
TZNAME:CEST
DTSTART:20180325T010000
END:DAYLIGHT
BEGIN:STANDARD
TZOFFSETFROM:+0200
TZOFFSETTO:+0100
TZNAME:CET
DTSTART:20181028T010000
END:STANDARD
END:VTIMEZONE
BEGIN:VEVENT
DTSTART;TZID=Europe/Berlin:20181005T180000
DTEND;TZID=Europe/Berlin:20181006T220000
DTSTAMP:20260425T211329
CREATED:20180815T130844Z
LAST-MODIFIED:20180815T131634Z
UID:58-1538762400-1538863200@www.meetxr.de
SUMMARY:GameJam 2018: Arbeit 4.0
DESCRIPTION:Du bist Entwickler/in | Designer/in | Arbeiter/in | Ingenieur/in | Visionär/in | Kreative/r | Wissenschaftler/in | Interessierte/r und hast Lust zusammen mit Gleichgesinnten\, in interdisziplinären Teams\, Spiele zu entwickeln\, welche die Herausforderungen unserer zukünftigen Arbeitswelt kommunizieren? Dann bewirb Dich jetzt und verbringe den 5. und 6. Oktober in der Lernfabrik der TU Braunschweig. Wir stellen Euch eine Vielzahl an Möglichkeiten bereit: Impulsvorträge\, VR-Brillen\, 3D-Drucker\, Pen & Paper Materialien und vieles mehr unterstützen Euch bei der Spielentwicklung. Wir freuen uns auf Dich! \nGameJam: Spieleentwicklung für Jedermann\n\nHackthon mit dem Fokus Spieleentwicklung\nInnerhalb der Dauer dieser Veranstaltung werden gemeinsam nützliche\, kreative oder unterhaltsame Spiele entwickelt\nDabei sind jegliche Spieleformate denkbar: Computerspiele\, Pen und Paper\, Virtuelle Realität\, Brettspiele oder auch Kombination aus verschiedenen Spieleformaten\n\nArbeit 4.0 – Arbeitswelten der Zukunft\nMaschinen und Computerprogramme können heute immer mehr Aufgaben übernehmen\, die früher von Menschen erledigt wurden. Betrachtet man den rasanten Fortschritt\, den Vernetzung\, Globalisierung und Digitalisierung allein innerhalb der letzten Jahre gemacht haben\, fällt es schwer\, sich eine Vorstellung davon zu machen\, wie unsere Arbeitswelten in 10\, 20 oder gar 50 Jahren aussehen könnten. \nZur Bewerbung
URL:https://www.meetxr.de/event/gamejam-2018-arbeit-4-0/
LOCATION:Die Lernfabrik\, Langer Kamp 19b\, Braunschweig\, 38106\, Deutschland
CATEGORIES:hack
ATTACH;FMTTYPE=image/png:https://www.meetxr.de/wp-content/uploads/2018/08/GameJam_Arbeitundspiele.png
END:VEVENT
END:VCALENDAR