BEGIN:VCALENDAR
VERSION:2.0
PRODID:-//meetXR - ECPv5.8.0//NONSGML v1.0//EN
CALSCALE:GREGORIAN
METHOD:PUBLISH
X-WR-CALNAME:meetXR
X-ORIGINAL-URL:https://www.meetxr.de
X-WR-CALDESC:Veranstaltungen für meetXR
BEGIN:VTIMEZONE
TZID:Europe/Berlin
BEGIN:DAYLIGHT
TZOFFSETFROM:+0100
TZOFFSETTO:+0200
TZNAME:CEST
DTSTART:20190331T010000
END:DAYLIGHT
BEGIN:STANDARD
TZOFFSETFROM:+0200
TZOFFSETTO:+0100
TZNAME:CET
DTSTART:20191027T010000
END:STANDARD
END:VTIMEZONE
BEGIN:VEVENT
DTSTART;VALUE=DATE:20190430
DTEND;VALUE=DATE:20190505
DTSTAMP:20260426T001058
CREATED:20190126T180210Z
LAST-MODIFIED:20190126T183229Z
UID:1115-1556593200-1556938799@www.meetxr.de
SUMMARY:FMX – Conference on Animation\, Effects\, Games and Immersive Media
DESCRIPTION:FMX – Conference on Animation\, Effects\, Games and Immersive Media is an event by Filmakademie’s Animationsinstitut. It takes place at the exclusive Haus der Wirtschaft in Stuttgart every spring. \nThere\, media creators share insights into the latest creative developments of their productions and present cutting-edge tools and pipelines\, fascinating real time technologies and innovative business models. Their contributions are complemented by the Marketplace\, which allows visitors to get a hands-on experience on the latest innovations of industry-leading companies and start-ups. Workshops\, Masterclasses and Company Suites dig even deeper into the learnings of international companies. To round things off\, top-notch studios scout talent at the Recruiting Hub\, international schools present their best projects on the School Campus\, and talent initiatives offer new perspectives to young creatives and start-ups. \nThrough its international yet intimate atmosphere\, FMX offers professionals and students a great platform to mingle\, network\, and share insights about art\, technologies and business.
URL:https://www.meetxr.de/event/fmx-conference-on-animation-effects-games-and-immersive-media/
LOCATION:Haus der Wirtschaft Baden-Württemberg\, Willi-Bleicher-Straße 19\, Stuttgart\, 70174\, Deutschland
CATEGORIES:talk
ATTACH;FMTTYPE=image/png:https://www.meetxr.de/wp-content/uploads/2019/01/2019-04-30_FMX2.png
END:VEVENT
END:VCALENDAR