BEGIN:VCALENDAR
VERSION:2.0
PRODID:-//meetXR - ECPv5.8.0//NONSGML v1.0//EN
CALSCALE:GREGORIAN
METHOD:PUBLISH
X-WR-CALNAME:meetXR
X-ORIGINAL-URL:https://www.meetxr.de
X-WR-CALDESC:Veranstaltungen für meetXR
BEGIN:VTIMEZONE
TZID:Europe/Berlin
BEGIN:DAYLIGHT
TZOFFSETFROM:+0100
TZOFFSETTO:+0200
TZNAME:CEST
DTSTART:20190331T010000
END:DAYLIGHT
BEGIN:STANDARD
TZOFFSETFROM:+0200
TZOFFSETTO:+0100
TZNAME:CET
DTSTART:20191027T010000
END:STANDARD
END:VTIMEZONE
BEGIN:VEVENT
DTSTART;TZID=Europe/Berlin:20191115T100000
DTEND;TZID=Europe/Berlin:20191115T150000
DTSTAMP:20260425T234912
CREATED:20191111T161641Z
LAST-MODIFIED:20191111T161641Z
UID:2064-1573812000-1573830000@www.meetxr.de
SUMMARY:FlaVR Virtual Reality Data Visualization Hackathon
DESCRIPTION:Hackathon zum Thema „Mit kollaborativer VR auf dem Weg zur Augmented Intelligence“\nNicht erst seit „Big Data“ versucht die Entwickler-Community die im Datendickicht verborgenen Schätze ausfindig und nutzbar zu machen. Der erste Reflex ist dabei fast immer der Einsatz von AI und ML\, leistungsfähigen aber manchmal auch arkan anmutenden Methoden zur Klassifizierung\, Korrelation und Reduktion von Informationen. \nProvokant könnte man fragen wo der Mensch im Zeitalter der „Replacing Intelligence“\, abseits vom Training der Modelle und der Auswahl von passenden Algorithmen\, noch Platz hat? \nAuf Basis eines bereitgestellten Datenmodells und unserem FlaVR-Framework werden wir direkt neue Visualisierungen erstellen und in VR erkunden. Hierfür steht euch unser neue eingerichtetes VR-Lab zur Verfügung. \nFür das leibliche Wohl wird natürlich gesorgt sein 🙂 \nWenn du teilnehmen willst melde dich bitte unter https://www.meetup.com/flavia-it/events/266046140/ oder per Mail an martin.schaefer@flavia-it.de an.
URL:https://www.meetxr.de/event/flavr-virtual-reality-data-visualization-hackathon/
LOCATION:Flavia IT-Management\, Wilhelmshöher Allee 268\, Kassel\, 34131
CATEGORIES:hack
ATTACH;FMTTYPE=image/jpeg:https://www.meetxr.de/wp-content/uploads/2019/11/2019-11-15_FlaviaITHackathon.jpeg
END:VEVENT
END:VCALENDAR