BEGIN:VCALENDAR
VERSION:2.0
PRODID:-//meetXR - ECPv5.8.0//NONSGML v1.0//EN
CALSCALE:GREGORIAN
METHOD:PUBLISH
X-WR-CALNAME:meetXR
X-ORIGINAL-URL:https://www.meetxr.de
X-WR-CALDESC:Veranstaltungen für meetXR
BEGIN:VTIMEZONE
TZID:Europe/Berlin
BEGIN:DAYLIGHT
TZOFFSETFROM:+0100
TZOFFSETTO:+0200
TZNAME:CEST
DTSTART:20230326T010000
END:DAYLIGHT
BEGIN:STANDARD
TZOFFSETFROM:+0200
TZOFFSETTO:+0100
TZNAME:CET
DTSTART:20231029T010000
END:STANDARD
END:VTIMEZONE
BEGIN:VEVENT
DTSTART;TZID=Europe/Berlin:20230523T180000
DTEND;TZID=Europe/Berlin:20230523T210000
DTSTAMP:20260425T201530
CREATED:20230418T190352Z
LAST-MODIFIED:20230418T190352Z
UID:6204-1684864800-1684875600@www.meetxr.de
SUMMARY:Extended Reality made in Germany
DESCRIPTION:XR Bavaria e.V. invites you together with brainjo GmbH to the „Talks and Drinks Event“ at the TechBase in Regensburg on May 23\, 2023.\nYou are interested in Virtual Reality\, Augmented Reality or Mixed Reality and want to talk about Extended Reality with experts\, founders or scientists?\nThen you shouldn’t miss out on that: On May 23rd at 18:00 there will be the event „Extended Reality made in Germany“ with our interesting speakers:\nMeta | Bastian Schütz\nHalocline | Tobias Haslböck\nBrainjo | Christian Michael Gnerlich \nCosts\nParticipation is free of charge. \nCulinary\nSnacks\, alcoholic and soft drinks will be sponsored. \nLocation\nStartup Incubator Techbase Regensburg (next to university) Franz-Mayer-Straße 1\, 93053 Regensburg \nSpeaker\nBastian Schütz | Strategic Partnerships | Reality Labs @ Meta\nBuilding multiple ecosystems across AR\, VR\, and the Metaverse. Enabling global brands and startups to build & leverage new\, immersive technologies including Avatars\, Digital Collectibles & virtual worlds with Meta – to help people feel connected anytime\, anywhere. \nTobias Haslböck | Sales and Business Development| halocline\nBusiness development for our VR software products\, key account management\, requirement analyses for the VR software\, strategic market analysis\, business model development \nChristian Michael Gnerlich | CEO | brainjo\nVR for healthier brains! We use Virtual Reality & Brain Computer Interfaces to create a digital therapy platform in order to solve a variety of indications and improve mental health \nGuests (Public event)\nInterested people from the Startup Incubator Techbase\nInterested people from university and university of Regensburg\nXR Bavaria e.V. Community \nLanguage\nGerman/English\nWe are open to internationality\, so before the presentations we will ask if someone does not speak German. In this case the presentations will be held in English. \nGeneral info \n\nLocation: Startup Incubator Techbase Regensburg (next to university) Franz-Mayer-Straße 1\, 93053 Regensburg\nWhen: May 23.05.2023\nStarting from 18:00 p.m.\nFree admission\nSnacks and drinks will be sponsored\n\nWe are looking forward to your coming!
URL:https://www.meetxr.de/event/extended-reality-made-in-germany/
LOCATION:TechBase Regensburg\, Franz-Mayer-Straße 1\, Regensburg\, Deutschland
CATEGORIES:talk
ATTACH;FMTTYPE=image/webp:https://www.meetxr.de/wp-content/uploads/2023/04/2023-05-23_XRMadeInGermany.webp
END:VEVENT
END:VCALENDAR