BEGIN:VCALENDAR
VERSION:2.0
PRODID:-//meetXR - ECPv5.8.0//NONSGML v1.0//EN
CALSCALE:GREGORIAN
METHOD:PUBLISH
X-WR-CALNAME:meetXR
X-ORIGINAL-URL:https://www.meetxr.de
X-WR-CALDESC:Veranstaltungen für meetXR
BEGIN:VTIMEZONE
TZID:Europe/Berlin
BEGIN:DAYLIGHT
TZOFFSETFROM:+0100
TZOFFSETTO:+0200
TZNAME:CEST
DTSTART:20210328T010000
END:DAYLIGHT
BEGIN:STANDARD
TZOFFSETFROM:+0200
TZOFFSETTO:+0100
TZNAME:CET
DTSTART:20211031T010000
END:STANDARD
END:VTIMEZONE
BEGIN:VEVENT
DTSTART;TZID=Europe/Berlin:20211118T180000
DTEND;TZID=Europe/Berlin:20211118T200000
DTSTAMP:20260425T201658
CREATED:20211116T120934Z
LAST-MODIFIED:20211116T120934Z
UID:3259-1637258400-1637265600@www.meetxr.de
SUMMARY:Extended Reality Bavaria e.V. Jahreshauptversammlung
DESCRIPTION:Seid dabei\, informiert und engagiert euch! Am 18. November 2021 ab 18 Uhr geht’s los! \nEs ist wieder soweit: unsere jährliche Mitgliederversammlung steht vor der virtuellen Türe. Ja – virtuelle Türe\, denn wir haben uns diese Woche dazu entschieden\, die Mitgliederversammlung in diesem Jahr nochmals per Stream zu übertragen – auch wenn wir euch wirklich gerne alle mal wieder persönlich gesehen hätten. Aber so können wir sicherstellen\, dass jede und jeder teilnehmen kann und das ist uns sehr wichtig! \n2021 war trotz der zum Teil immer noch bestehenden Einschränkungen ein ereignisreiches Jahr für den Extended Reality Bavaria e.V. und es gibt jede Menge zu berichten. Dazu haben wir uns einige Neuerungen für den XRB überlegt und ein spannendes Programm für 2022 aufgestellt – basierend auf euren Rückmeldungen von der Mitglieder-Befragung und natürlich auch auf den Anfragen\, die immer wieder an uns von außen herangetragen werden. \nWas ganz wichtig ist: Wir brauchen ein paar mehr Leute bei uns in der Orga! Unsere Aktivitäten werden immer umfangreicher und wir schaffen es nicht mehr alleine\, alle Aufgaben zu bewältigen. Hier geht es z.B. um unsere Website\, Social Media\, Eventbetreuung\, Internationales Netzwerk\, Teilnahme in Ausschuss-Sitzungen von Spitzenverbänden und vieles mehr. Ideal wäre ein Zeitkontingent von ca. 10-15 Stunden im Monat und die Bereitschaft zur Eigeninitiative. \nAlles weitere gibt’s ab 18 Uhr und das ist die Agenda:\n18.00 Uhr Offizielle Begrüßung\n18.15 Uhr Bericht der Vorstände\n18.45 Uhr Entlastung des Vorstands\n19.00 Uhr Vorstellung Programm 2022\nDiskussion und Beschlussfassungen \nWenn ihr noch einen aktiven Beitrag zur Mitgliederversammlung einbringen wollt lasst es uns wissen.\nWir freuen uns auf einen aktiven und interessanten Austausch mit euch! \nLiebe Grüße\nClarence\, Martin und Petra
URL:https://www.meetxr.de/event/extended-reality-bavaria-e-v-jahreshauptversammlung/
LOCATION:Online Event\, online
CATEGORIES:talk
ATTACH;FMTTYPE=image/jpeg:https://www.meetxr.de/wp-content/uploads/2021/11/2021-11-18_ExtendedBavaria.jpeg
END:VEVENT
END:VCALENDAR