BEGIN:VCALENDAR
VERSION:2.0
PRODID:-//meetXR - ECPv5.8.0//NONSGML v1.0//EN
CALSCALE:GREGORIAN
METHOD:PUBLISH
X-WR-CALNAME:meetXR
X-ORIGINAL-URL:https://www.meetxr.de
X-WR-CALDESC:Veranstaltungen für meetXR
BEGIN:VTIMEZONE
TZID:Europe/Berlin
BEGIN:DAYLIGHT
TZOFFSETFROM:+0100
TZOFFSETTO:+0200
TZNAME:CEST
DTSTART:20220327T010000
END:DAYLIGHT
BEGIN:STANDARD
TZOFFSETFROM:+0200
TZOFFSETTO:+0100
TZNAME:CET
DTSTART:20221030T010000
END:STANDARD
END:VTIMEZONE
BEGIN:VEVENT
DTSTART;TZID=Europe/Berlin:20220211T150000
DTEND;TZID=Europe/Berlin:20220211T190000
DTSTAMP:20260425T224313
CREATED:20220110T111410Z
LAST-MODIFIED:20220126T102831Z
UID:3380-1644591600-1644606000@www.meetxr.de
SUMMARY:Extend your Reality | VR-Workshop
DESCRIPTION:Ein praktischer Workshop\, der dir einen Einblick in die Entwicklung von XR Apps ermöglicht und dich in MR- und VR-Welten eintauchen lässt. \nBetrete virtuelle und erweiterte Realitäten. In diesem Workshop bekommst du einen Einblick in die Entwicklung von XR Apps und kannst selbst in MR- und VR-Welten eintauchen. \n🏁 Was ist das Ziel des Workshops?\nGanz einfach! Ziel ist es Dir einen Einblick in die Welt von Extended Reality zu verschaffen. Angefangen mit einer allgemeinen Introduction ins Thema\, über einen Einblick in die Entwicklung von XR Anwendungen\, hin zu einem Besuch bei VARyFAST und natürlich der Möglichkeit selbst unsere XR Geräte zu testen. Dafür stellen wir euch das Valve Index Kit\, die Oculus Quest 2 und das MR Flaggschiff\, die HoloLens 2 von Microsoft zur Verfügung. \nXR ist einen schnell wachsendes Feld in verschiedenen Bereichen. Neben Entertainment-Zwecken\, könnte XR in viele weitere Richtungen Mehrwert bieten\, wie z.B. Marketing\, Immobilien oder sogar Training. Das wird neuen Raum für Startups und ein weiteres Entwicklungsfeld schaffen\, wofür wir Dich begeistern wollen! \n👤 An wen richtet sich der Workshop?\nDer Workshop richtet sich an jeden mit Interesse oder Neugier im Bereich Virtual / Augmented und Mixed Reality. Egal\, ob erfahrener VR Gamer\, classic Programmierer oder Gründungsinteressierter\, in diesem Workshop ist für jeden was dabei. \nWie schon oben erwähnt\, öffnet sich durch XR eine neue Welt\, in Form von verschiedenen Metaversen\, die Raum für kreative Ideen und Projekte schafft\, was jeden mit ein wenig Tech Affinität in die Zielgruppe einschließt. \n🎙 Wer ist der Speaker des Workshops?\nNils Neuhäusel ist Student der Informatik an der Technischen Universität Darmstadt. Durch die Möglichkeit im VentureLab mit verschiedenen XR Geräten zu arbeiten\, hat Nils eine Leidenschaft für das Feld entwickelt und beschäftigt sich ausgiebig mit der Entwicklung von MR Applikationen. Seine Affinität zu innovativen Technologien und verschiedene Skills im IT Bereich machen ihn zu einem hilfreichen Betreuer und hoffentlich auch interessanten Speaker. \n🔎 Was sind die Inhalte des Workshops?\nDer Workshop wird mit einer Einführung in das Feld der erweiterten Realitäten starten. Danach folgt ein Gastvortrag von VARyFAST\, dem VR Labor der TH Aschaffenburg. Weiter geht es dann mit einem Live-Tutorial zur Entwicklung eines VR Games mit Unity und abschließen wird der Workshop mit einer offenen Diskussions- und Fragerunde. \n🎥 Wo findet der Workshop statt?\nDer Workshop wird über Zoom stattfinden. Natürlich hast Du trotzdem die Möglichkeit unsere XR Brillen zu testen. Dafür kannst du ganz einfach einen Termin mit Nils vereinbaren\, an dem er sich die Zeit nimmt\, um dir ein perfekts erstes XR Erlebnis zu bieten. \n🙌🏼 Auf was wartest Du?\nStarte jetzt mit unserem Weiterbildungsangebot durch und baue deine Skills aus – for free. \nFür noch mehr Unterstützung steht dir das VentureLab Team zur Seite. Vereinbare jetzt deinen individuellen Beratungstermin – for free. Folge uns gerne auch unter @venturelabthab auf Eventbrite\, Instagram\, Facebook oder LinkedIn. \n 
URL:https://www.meetxr.de/event/extend-your-reality-vr-workshop/
LOCATION:Zoom Meeting\, Zoom
CATEGORIES:hack,talk
ATTACH;FMTTYPE=image/jpeg:https://www.meetxr.de/wp-content/uploads/2022/01/2022-02-11_ExtendYourReality.jpeg
END:VEVENT
END:VCALENDAR