BEGIN:VCALENDAR
VERSION:2.0
PRODID:-//meetXR - ECPv5.8.0//NONSGML v1.0//EN
CALSCALE:GREGORIAN
METHOD:PUBLISH
X-WR-CALNAME:meetXR
X-ORIGINAL-URL:https://www.meetxr.de
X-WR-CALDESC:Veranstaltungen für meetXR
BEGIN:VTIMEZONE
TZID:Europe/Berlin
BEGIN:DAYLIGHT
TZOFFSETFROM:+0100
TZOFFSETTO:+0200
TZNAME:CEST
DTSTART:20190331T010000
END:DAYLIGHT
BEGIN:STANDARD
TZOFFSETFROM:+0200
TZOFFSETTO:+0100
TZNAME:CET
DTSTART:20191027T010000
END:STANDARD
END:VTIMEZONE
BEGIN:VEVENT
DTSTART;TZID=Europe/Berlin:20190210T130000
DTEND;TZID=Europe/Berlin:20190210T233000
DTSTAMP:20260425T201532
CREATED:20190105T135456Z
LAST-MODIFIED:20190105T135555Z
UID:890-1549803600-1549841400@www.meetxr.de
SUMMARY:EFM VR NOW Summit 2019
DESCRIPTION:Half day conference and networking event for companies and corporates who want to explore the opportunities of Virtual Reality – as a technology\, as a platform\, as a medium. \nVirtual Reality and Cinematic VR are exciting new tools to tell stories unlike they have ever been told before. Neither film\, nor game\, but a whole new way of creative thinking\, producing and arranging dramatic and lifelike immersive experiences. At the EFM VR NOW Summit\, we share the insights of international film makers\, 360 video pioneers and Virtual Reality professional. This program is customized for the needs of a film festival audience\, with approachable speakers and lots of opportunities to network. \n*** \nKEY FACTS\nDATE: Berlin\, February 10\, 2019\nTIME: 13:00 – 19:00\nDOORS: 13:00 \nPROGRAM DRAFT (subject to change)\n13.00 Doors \n14:00 Welcome and Introduction \n14:05 Talk 1 | Block “Distribution”\nIntroduction and overview on “Out of Home Entertainment” with VR \n14:25 Talk 2 | Block “Distribution”\nTechnological developments in location based entertainment \n14:45 Talk 3 | Block “Distribution”\nDistribution and Co-Production of immersive Media \n15:05 Panel-Discussion | Block “Distribution”\nAnalysis and Q&A with the speakers and audience \n15:45 HOT DRINK & RECREATION \n16:10 Talk 4 | Block “Content Production”\nHollywood and VR \n16:30 Talk 5 | Block “Content Production”\n„Kobold“ recap and new productions in the pipeline \n16:50 Talk 6 | Block “Content Production”\n“Das Boot” recap and the new projekt in the pipeline \n17:10 Panel-Diskussion | Block “Content Production”\nAnalysis and Q&A with the speakers and audience \n18.00 COLD DRINKS & RECREATION (tbc) \n*** \nIn cooperation with the European Film Market\, hosted by Virtual Reality e.V. BB\, in partnership with INVR.space\, produced by Booster Space. \nwww.vrnowcon.io/efm-summit
URL:https://www.meetxr.de/event/efm-vr-now-summit-2019/
LOCATION:Berliner Freiheit\, Berliner Freiheit 2\, Berlin\, 10785\, Deutschland
CATEGORIES:talk
ATTACH;FMTTYPE=image/jpeg:https://www.meetxr.de/wp-content/uploads/2019/01/2019-02-10_EFMSummit.jpg
ORGANIZER;CN="VR%20NOW%20Con%20%26%20Awards":MAILTO:hi@booster-space.com
END:VEVENT
END:VCALENDAR