BEGIN:VCALENDAR
VERSION:2.0
PRODID:-//meetXR - ECPv5.8.0//NONSGML v1.0//EN
CALSCALE:GREGORIAN
METHOD:PUBLISH
X-WR-CALNAME:meetXR
X-ORIGINAL-URL:https://www.meetxr.de
X-WR-CALDESC:Veranstaltungen für meetXR
BEGIN:VTIMEZONE
TZID:Europe/Berlin
BEGIN:DAYLIGHT
TZOFFSETFROM:+0100
TZOFFSETTO:+0200
TZNAME:CEST
DTSTART:20220327T010000
END:DAYLIGHT
BEGIN:STANDARD
TZOFFSETFROM:+0200
TZOFFSETTO:+0100
TZNAME:CET
DTSTART:20221030T010000
END:STANDARD
END:VTIMEZONE
BEGIN:VEVENT
DTSTART;VALUE=DATE:20220921
DTEND;VALUE=DATE:20220924
DTSTAMP:20260425T211236
CREATED:20220921T071743Z
LAST-MODIFIED:20220921T071743Z
UID:5159-1663729200-1663901999@www.meetxr.de
SUMMARY:DMEXCO 22
DESCRIPTION:Die DMEXCO ist Europas führendes Digital Marketing & Tech Event.\nSei vor Ort dabei! Am 21. & 22. September in Köln!\nDie DMEXCO ist Europas führendes Digital Marketing & Tech Event. Wir verstehen uns als Community und zentraler Treffpunkt aller wichtigen Entscheidungsträger aus digitaler Wirtschaft\, Marketing und Innovation. Wir bringen Branchenführer\, Marketing- und Medienprofis sowie Technologie- und Innovationstreiber an zentraler Stelle zusammen\, um gemeinsam die digitale Agenda zu definieren. DMEXCO bietet ein ganzes Ökosystem aus Vorträgen internationaler Speaker\, Ausstellungen von Top-Brands und praxisorientierten Masterclasses – alle mit Blick auf digitale Trends und zukünftige Business-Potenziale. \nIn Köln und im Netz setzen wir die Benchmark als Netzwerk- und Business-Plattform der Digitalwirtschaft. Entscheidungsträger bilden sich weiter und lassen sich inspirieren\, knüpfen Kontakte und schließen Geschäfte ab. DMEXCO ist der Ort\, wo das digitale Geschäft von morgen schon heute erlebbar ist. Die DMEXCO 2022 findet am 21. und 22. September 2022 statt. \nDer Bundesverband Digitale Wirtschaft (BVDW) e.V. ist – unter besonderer Mitwirkung des Online-Vermarkterkreis (OVK) – ideeller und fachlicher Träger der DMEXCO sowie Inhaber der Marke. Veranstalter der DMEXCO ist die Koelnmesse.
URL:https://www.meetxr.de/event/dmexco-22/
LOCATION:Koelnmesse\, Messeplatz 1\, Köln\, 50679\, Deutschland
CATEGORIES:play,talk
ATTACH;FMTTYPE=image/jpeg:https://www.meetxr.de/wp-content/uploads/2022/09/2022-09-22_DMEXCO.jpg
END:VEVENT
END:VCALENDAR