BEGIN:VCALENDAR
VERSION:2.0
PRODID:-//meetXR - ECPv5.8.0//NONSGML v1.0//EN
CALSCALE:GREGORIAN
METHOD:PUBLISH
X-WR-CALNAME:meetXR
X-ORIGINAL-URL:https://www.meetxr.de
X-WR-CALDESC:Veranstaltungen für meetXR
BEGIN:VTIMEZONE
TZID:Europe/Berlin
BEGIN:DAYLIGHT
TZOFFSETFROM:+0100
TZOFFSETTO:+0200
TZNAME:CEST
DTSTART:20210328T010000
END:DAYLIGHT
BEGIN:STANDARD
TZOFFSETFROM:+0200
TZOFFSETTO:+0100
TZNAME:CET
DTSTART:20211031T010000
END:STANDARD
END:VTIMEZONE
BEGIN:VEVENT
DTSTART;TZID=Europe/Berlin:20210624T180000
DTEND;TZID=Europe/Berlin:20210624T203000
DTSTAMP:20260425T213000
CREATED:20210611T124234Z
LAST-MODIFIED:20210611T124234Z
UID:3124-1624557600-1624566600@www.meetxr.de
SUMMARY:Digital Valley - Content aus der Wunderlampe
DESCRIPTION:Roman von Götz spricht heute über VR-photography und 360-Grad -Videos im täglichen Gebrauch. \nZu diesem Event\nNach dem Hype um Virtual Reality im Jahre 2017 ist heute bei vielen eine Ernüchterung eingetreten. Bei einigen User:innen bleibt es dagegen immer noch bei einer Ersterfahrung beim Messebesuch oder einer Präsentation. Wie ist die Benutzerfreundlichkeit von VR heute und sind wir über das Stadium der Pioniertechnologie hinaus?\nIm Rahmen seines Kunststipendiums „Wundertüte/ Faszination/ Faszinosum Ruhrgebiet“ fotografiert Roman besondere Orte des Ruhrgebiets als Spährenpanorama und macht sie danach digital auf anderen Kanälen wieder erlebbar. Wie steht es um die Betrachtungsfreiheit im immersiven Raum durch Head Mounted Displays? An diesem Abend gibt es einen Überblick. \nAblauf\n18:00 – 18:30 Open Doors\n18:30 – 19:15 Impuls: Roman von Götz\n19:15 – 20:30: Austausch & Netzwerken\nReferent: Seit mehreren Jahren
URL:https://www.meetxr.de/event/digital-valley-content-aus-der-wunderlampe/
LOCATION:Online Event\, online
CATEGORIES:talk
ATTACH;FMTTYPE=image/jpeg:https://www.meetxr.de/wp-content/uploads/2021/06/2021-06-24_ContentAusDerWunderlampe.jpg
ORGANIZER;CN="visibleRuhr":MAILTO:info@visible.ruhr
END:VEVENT
END:VCALENDAR