BEGIN:VCALENDAR
VERSION:2.0
PRODID:-//meetXR - ECPv5.8.0//NONSGML v1.0//EN
CALSCALE:GREGORIAN
METHOD:PUBLISH
X-WR-CALNAME:meetXR
X-ORIGINAL-URL:https://www.meetxr.de
X-WR-CALDESC:Veranstaltungen für meetXR
BEGIN:VTIMEZONE
TZID:Europe/Berlin
BEGIN:DAYLIGHT
TZOFFSETFROM:+0100
TZOFFSETTO:+0200
TZNAME:CEST
DTSTART:20180325T010000
END:DAYLIGHT
BEGIN:STANDARD
TZOFFSETFROM:+0200
TZOFFSETTO:+0100
TZNAME:CET
DTSTART:20181028T010000
END:STANDARD
END:VTIMEZONE
BEGIN:VEVENT
DTSTART;TZID=Europe/Berlin:20180913T180000
DTEND;TZID=Europe/Berlin:20180913T200000
DTSTAMP:20260425T211434
CREATED:20180822T152610Z
LAST-MODIFIED:20180822T152610Z
UID:613-1536861600-1536868800@www.meetxr.de
SUMMARY:DIGITAL PILOTS Infotag
DESCRIPTION:Die DIGITAL PILOTS eröffnen die Akademie für digitale Weiterbildung. In Berlin\, Hamburg und Köln beginnt im November 2018 die erste Ausbildung zum/r Digital Producer/in XR. Experten aus Wissenschaft und Praxis machen die Teilnehmer in dem 3\,5-monatigen Vollzeitlehrgang fit in Sachen Virtual und Augmented Reality. Das Angebot richtet sich an Interessenten und Quereinsteiger\, die eine praxisnahe Weiterbildung für ihr berufliches Fortkommen suchen. \nAm 13. September 2018 um 18 Uhr informieren die DIGITAL PILOTS in der Mediadesign Hochschule über alles Wissenswerte rund um den Lehrgang und die Akademie.
URL:https://www.meetxr.de/event/digital-pilots-infotag-2/
LOCATION:Mediadesign Hochschule (MD.H) Berlin\, Franklinstraße 28-29\, Berlin\, 10587\, Deutschland
CATEGORIES:talk
ATTACH;FMTTYPE=image/gif:https://www.meetxr.de/wp-content/uploads/2018/08/613_image_original.gif
END:VEVENT
END:VCALENDAR