BEGIN:VCALENDAR
VERSION:2.0
PRODID:-//meetXR - ECPv5.8.0//NONSGML v1.0//EN
CALSCALE:GREGORIAN
METHOD:PUBLISH
X-WR-CALNAME:meetXR
X-ORIGINAL-URL:https://www.meetxr.de
X-WR-CALDESC:Veranstaltungen für meetXR
BEGIN:VTIMEZONE
TZID:Europe/Berlin
BEGIN:DAYLIGHT
TZOFFSETFROM:+0100
TZOFFSETTO:+0200
TZNAME:CEST
DTSTART:20190331T010000
END:DAYLIGHT
BEGIN:STANDARD
TZOFFSETFROM:+0200
TZOFFSETTO:+0100
TZNAME:CET
DTSTART:20191027T010000
END:STANDARD
END:VTIMEZONE
BEGIN:VEVENT
DTSTART;TZID=Europe/Berlin:20190606T090000
DTEND;TZID=Europe/Berlin:20190606T235900
DTSTAMP:20260425T222236
CREATED:20190204T181521Z
LAST-MODIFIED:20190204T181521Z
UID:1196-1559811600-1559865540@www.meetxr.de
SUMMARY:DIGITAL KINDERGARTEN 2019
DESCRIPTION:DER DIGITAL KINDERGARTEN LÄDT AM 6.6. 2019 WIEDER ZUM SPIELEN EIN:\nmit noch mehr Programm\, mehr Ausstellern und Top-Speakernin einer einzigartigen Location – dem Fußballstadion des FC St. Pauli! \nOb KI\, VR\, AR\, 3D-Printing\, Marketing und Kommunikation\, Smarthome oder Robotics\, beim DIGITAL KINDERGARTEN geht es um die Entdeckung neuer digitaler Trends und Technologien sowie um die Vermittlung zukunftsweisender Insights im Bereich Marketing und Kommunikation. \nExperimentieren\, anfassen\, entdecken –  auf der Gadget-Spielwiese die neuesten Technologien ausprobieren!\nTop Speaker! Networking at its best! \nImmer mit dabei: Die wichtigsten Marketing-\, Digital-\, und Kommunikationsentscheider\, Influencer & Journalisten. \nFreu dich auf:\nMEHR ALS 50 AUSSTELLER & RUND 50 SPEAKER\, die einen Blick auf die Trends der Zukunft ermöglichen. \nMit dabei sind spannende Themen wie KI und Kreativität\, Voice\, Podcasts\, Bots\, Gaming & E-Sports\, VR\, AR\, Retail der Zukunft\, eCommerce\, Influencer Marketing\, Big Data\, Diversity / Female Power\, Robotics\, Filterblasen und Fakenews\, Disruption\, E-Mobilität\, Blockchain\, Smart Citys / Smart Homes\, Automation\, Smart & connected devices. \nDIE MISSION LAUTET: INSPIRIEREN LASSEN\, NETZWERKEN UND AUSPROBIEREN!\nBist du dabei? \nProgramm\n+ Vorträge & Diskussionen\n+ Gadget-Marktplatz\n+ After-Show-Party \nwww.digitalkindergarten.de\nHeute Tickets kaufen\, morgen inspirieren lassen!
URL:https://www.meetxr.de/event/digital-kindergarten-2019/
LOCATION:Millerntor-Stadion\, Harald-Stender-Platz 1\, Hamburg\, 20359\, Deutschland
CATEGORIES:talk
ATTACH;FMTTYPE=image/png:https://www.meetxr.de/wp-content/uploads/2019/02/2019-06-06_DigitalKindergarten.png
ORGANIZER;CN="achtung%21%20Experience":MAILTO:info@achtung.de
END:VEVENT
END:VCALENDAR