BEGIN:VCALENDAR
VERSION:2.0
PRODID:-//meetXR - ECPv5.8.0//NONSGML v1.0//EN
CALSCALE:GREGORIAN
METHOD:PUBLISH
X-WR-CALNAME:meetXR
X-ORIGINAL-URL:https://www.meetxr.de
X-WR-CALDESC:Veranstaltungen für meetXR
BEGIN:VTIMEZONE
TZID:Europe/Berlin
BEGIN:DAYLIGHT
TZOFFSETFROM:+0100
TZOFFSETTO:+0200
TZNAME:CEST
DTSTART:20180325T010000
END:DAYLIGHT
BEGIN:STANDARD
TZOFFSETFROM:+0200
TZOFFSETTO:+0100
TZNAME:CET
DTSTART:20181028T010000
END:STANDARD
END:VTIMEZONE
BEGIN:VEVENT
DTSTART;TZID=Europe/Berlin:20180926T100000
DTEND;TZID=Europe/Berlin:20180927T180000
DTSTAMP:20260425T212736
CREATED:20180818T112529Z
LAST-MODIFIED:20180818T113540Z
UID:457-1537956000-1538071200@www.meetxr.de
SUMMARY:Digility Conference & Expo 2018
DESCRIPTION:DIGITAL REALITY is already changing our world. But what’s coming next? Skim off knowledge and meet the most inspiring and advanced pioneers on Augmented\, Virtual and Mixed Reality\, 3D and CGI\, Machine Learning and Artificial Intelligence. \nTop notch and international: Experience business optimizing best practices from various industry fields\, receive latest insights from science and economic market drivers and exchange knowledge about software and hardware development at DIGILITY 2018. \n\n\nConference 2018\n26 & 27 September | From 10.00 a.m. \n\nDIGITAL REALITY is already changing our world. But what’s coming next? Skim off knowledge and meet the most inspiring and advanced pioneers on Augmented\, Virtual and Mixed Reality\, 3D and CGI\, Machine Learning and Artificial Intelligence. \nTop notch and international: Experience business optimizing best practices from various industry fields\, receive latest insights from science and economic market drivers and exchange knowledge about software and hardware development at DIGILITY 2018. \n\n\nWorkshops 2018\n26 & 27 September | From 10.00 a.m. \n\nTake part in our experience workshops: Deepen your knowledge and share your visions and questions with experts on specific technologies and solutions. In order to keep the workshops efficient\, attendance is very limited. Signing up is mandatory. So stay tuned for further details to not miss deadlines. \n\n\nJoin our call for speaker and share your projects and vision with us: https://www.digility.de/conference/call-for-speakers/. \nBecome an exhibitor and meet new business opportunities in our huge expo space: https://www.digility.de/exposition/become-an-exhibitor/. \nSEE YOU IN THE CAPITAL OF DIGITAL REALITY: 26/27th of September in Cologne! \nMore information: www.digility.de.
URL:https://www.meetxr.de/event/digility-2018/
LOCATION:Koelnmesse\, Messeplatz 1\, Köln\, 50679\, Deutschland
CATEGORIES:talk
ATTACH;FMTTYPE=image/jpeg:https://www.meetxr.de/wp-content/uploads/2018/08/2018-09-26_Digility.jpg
END:VEVENT
END:VCALENDAR