BEGIN:VCALENDAR
VERSION:2.0
PRODID:-//meetXR - ECPv5.8.0//NONSGML v1.0//EN
CALSCALE:GREGORIAN
METHOD:PUBLISH
X-WR-CALNAME:meetXR
X-ORIGINAL-URL:https://www.meetxr.de
X-WR-CALDESC:Veranstaltungen für meetXR
BEGIN:VTIMEZONE
TZID:Europe/Berlin
BEGIN:DAYLIGHT
TZOFFSETFROM:+0100
TZOFFSETTO:+0200
TZNAME:CEST
DTSTART:20180325T010000
END:DAYLIGHT
BEGIN:STANDARD
TZOFFSETFROM:+0200
TZOFFSETTO:+0100
TZNAME:CET
DTSTART:20181028T010000
END:STANDARD
END:VTIMEZONE
BEGIN:VEVENT
DTSTART;TZID=Europe/Berlin:20181023T180000
DTEND;TZID=Europe/Berlin:20181023T200000
DTSTAMP:20260425T190049
CREATED:20181015T182913Z
LAST-MODIFIED:20181015T182913Z
UID:752-1540317600-1540324800@www.meetxr.de
SUMMARY:Design in Osnabrück #6: How many alpacas do you need for good ux?
DESCRIPTION:Metriken sind vielen von uns sicherlich ein Begriff. Bei dem ein oder anderen klingelt es jetzt vielleicht und Erinnerungen an langweilige Vorlesungen kommen auf. Grundsätzlich sorgen Metriken für Messbarkeit\, denn durch ihren Einsatz kann anhand der resultierenden Daten geprüft werden\, ob die vordefinierten Ziele eines Projekts erreicht wurden. Doch wie würde ein Projekt aussehen\, bei dem dieser Ablauf umgedreht wird? Wenn bereits in der Konzeption der Fokus auf ein messbares Ziel gelegt wird? \nIn diesem Meetup widmen wir uns der Frage\, wie wir ein Produkt so umgestalten können\, dass dieses messbare Ziel am Ende erreicht wird. Mach mit bei diesem interaktiven Experiment! Mithilfe von Googles „Goals – Signals – Metrics“- Framework wollen wir in kleinen Teams unterschiedliche Ziele (Goals) betrachten\, einen Papierprototyp dementsprechend anpassen und anhand von Metriken evaluieren (Signals\, Metrics). Inwieweit werden sich die Ergebnisse der Gruppen aufgrund der zugrunde liegenden Ziele unterscheiden? Wir sind gespannt! \nJetzt fragst du dich bestimmt: Was zur Hölle haben Alpakas damit zu tun? Komm vorbei und finde es heraus 😉
URL:https://www.meetxr.de/event/design-in-osnabrueck-6-how-many-alpacas-do-you-need-for-good-ux/
LOCATION:SALT AND PEPPER Software Solutions\, Kaffee Partner Allee 5\, Osnabrück\, DE
CATEGORIES:talk
ATTACH;FMTTYPE=image/jpeg:https://www.meetxr.de/wp-content/uploads/2018/08/DesignMeetupOsnabrueck.jpeg
END:VEVENT
END:VCALENDAR