BEGIN:VCALENDAR
VERSION:2.0
PRODID:-//meetXR - ECPv5.8.0//NONSGML v1.0//EN
CALSCALE:GREGORIAN
METHOD:PUBLISH
X-WR-CALNAME:meetXR
X-ORIGINAL-URL:https://www.meetxr.de
X-WR-CALDESC:Veranstaltungen für meetXR
BEGIN:VTIMEZONE
TZID:Europe/Berlin
BEGIN:DAYLIGHT
TZOFFSETFROM:+0100
TZOFFSETTO:+0200
TZNAME:CEST
DTSTART:20210328T010000
END:DAYLIGHT
BEGIN:STANDARD
TZOFFSETFROM:+0200
TZOFFSETTO:+0100
TZNAME:CET
DTSTART:20211031T010000
END:STANDARD
END:VTIMEZONE
BEGIN:VEVENT
DTSTART;TZID=Europe/Berlin:20210519T180000
DTEND;TZID=Europe/Berlin:20210519T200000
DTSTAMP:20260425T223333
CREATED:20210611T115151Z
LAST-MODIFIED:20210611T115151Z
UID:3110-1621447200-1621454400@www.meetxr.de
SUMMARY:Das Zukünftige simulieren? Virtual Reality im Mobilitätsdesign
DESCRIPTION:Das Zukünftige simulieren? Virtual Reality im Mobilitätsdesign\nVortrags- und Diskussionsabend im Rahmen der Jubiläumsausstellung »Aus heutiger Sicht. Diskurse über Zukunft« \nDas Reale simulieren oder das Zukünftige simulieren? Virtuelle Realitäten bieten das Potenzial\, sowohl für Designforschung als auch Designpraxis Bestehendes ebenso wie Geplantes zu simulieren. Aber lohnen sich solche Simulationen\, oder ist das nur teure Spielerei? Wieso simuliert man eigentlich? Wie werden virtuelle Realitäten in der Forschung und in der Anwendung eingesetzt und was haben diese mit Zukunft zu tun? Impuls-Beiträge und Diskussion sollen am Beispiel des Mobilitätsdesigns aufzeigen\, wie die Zukunft mit Simulationen untersucht\, geplant und gelehrt wird. \nBeiträge von\nKarina Schäfer; EDAG Production Solution\, Smart City Project\nPascal Tonecker; Director of CRYENGINE Enterprise Solution\nAnnika Storch; Studentin an der Hochschule für Gestaltung Offenbach am Main\nDipl.-Des. Julian Schwarze; wissenschaftlicher Mitarbeiter am DML der Hochschule für Gestaltung Offenbach am Main\n​\nModeration: Dr. Felix Kosok
URL:https://www.meetxr.de/event/das-zukuenftige-simulieren-virtual-reality-im-mobilitaetsdesign/
LOCATION:Zoom Meeting\, Zoom
CATEGORIES:talk
ATTACH;FMTTYPE=image/jpeg:https://www.meetxr.de/wp-content/uploads/2021/06/2021-05-07_Mobilitaetsdesign.jpg
END:VEVENT
END:VCALENDAR