BEGIN:VCALENDAR
VERSION:2.0
PRODID:-//meetXR - ECPv5.8.0//NONSGML v1.0//EN
CALSCALE:GREGORIAN
METHOD:PUBLISH
X-WR-CALNAME:meetXR
X-ORIGINAL-URL:https://www.meetxr.de
X-WR-CALDESC:Veranstaltungen für meetXR
BEGIN:VTIMEZONE
TZID:Europe/Berlin
BEGIN:DAYLIGHT
TZOFFSETFROM:+0100
TZOFFSETTO:+0200
TZNAME:CEST
DTSTART:20180325T010000
END:DAYLIGHT
BEGIN:STANDARD
TZOFFSETFROM:+0200
TZOFFSETTO:+0100
TZNAME:CET
DTSTART:20181028T010000
END:STANDARD
END:VTIMEZONE
BEGIN:VEVENT
DTSTART;TZID=Europe/Berlin:20181204T170000
DTEND;TZID=Europe/Berlin:20181204T190000
DTSTAMP:20260426T013449
CREATED:20181114T221147Z
LAST-MODIFIED:20181114T221147Z
UID:827-1543942800-1543950000@www.meetxr.de
SUMMARY:Das digitale Jetzt: Serious Virtual Reality
DESCRIPTION:Das digitale Jetzt – spannende Beispiele aus der Praxis \n„Das digitale Jetzt“ ist eine Veranstaltungsreihe\, die in Kooperation des Mittelstand 4.0-Kompetenzzentrum Bremen\, des Interessenverbands bremen digitalmedia und dem Senator für Wirtschaft\, Arbeit und Häfen angeboten wird. \n\n\n\nIm Dezember ist „Das digitale Jetzt“ mit dem Thema „Serious Virtual Reality – Wissen erlebbar machen“ bei der engram GmbH zu Gast. Das Potenzial für den Einsatz von Virtual Reality außerhalb der Gaming Welt ist groß und eröffnet neue Wege in Produktion\, Vertrieb und Schulung auch für mittelständische Unternehmen. Durch die Virtual Reality Technologie lassen sich komplexe Vorgänge anschaulich in der virtuellen Welt abbilden und präsentieren. Die Wissensvermittlung an Endkunden oder Mitarbeiter kann auf diese Weise emotionaler und verständlicher gestaltet werden. Die Folge: Erlebte Inhalte bleiben länger im Gedächtnis.\nKommen Sie vorbei und erfahren Sie mehr darüber\, wie Wissen erlebbar gemacht werden kann und wie Sie Virtual Reality für Ihren Vertrieb nutzen können. Sie haben die Möglichkeit\, die Technologie auszuprobieren und in digitale Welten einzutauchen. Die engram GmbH freut sich auf Ihren Besuch! \n\n\n\n  \nWas: Serious Virtual Reality – Wissen erlebbar machen\nWo: engram GmbH\, Konsul-Smidt-Str. 8r\, 28217 Bremen\nWann: Dienstag\, 4. Dezember 2018; 17-19 Uhr\, anschließend Get-together bei Fingerfood & Getränken \nReferenten: Dr. Nina Schimmel (Product Owner E-Learning & Virtual Reality) und Tim J. Konz (Projektleiter Digital Signage & Virtual Reality) \n\n\n\n\n\n\nKosten: keine\n\n\nDie Teilnehmerzahl ist begrenzt.\nBitte melden Sie sich deshalb verbindlich bis zum 03.12.2018 unter folgender E-Mail-Adresse an: LB@kompetenzzentrum-bremen.digital\n\n\nBildquelle: engram GmbH
URL:https://www.meetxr.de/event/das-digitale-jetzt-serious-virtual-reality/
LOCATION:engram\, Konsul-Smidt-Str. 8r\, Bremen\, 28217\, Deutschland
CATEGORIES:talk
ATTACH;FMTTYPE=image/jpeg:https://www.meetxr.de/wp-content/uploads/2018/11/2018-12-04_Bremen-SeriousVR.jpg
END:VEVENT
END:VCALENDAR