BEGIN:VCALENDAR
VERSION:2.0
PRODID:-//meetXR - ECPv5.8.0//NONSGML v1.0//EN
CALSCALE:GREGORIAN
METHOD:PUBLISH
X-WR-CALNAME:meetXR
X-ORIGINAL-URL:https://www.meetxr.de
X-WR-CALDESC:Veranstaltungen für meetXR
BEGIN:VTIMEZONE
TZID:Europe/Berlin
BEGIN:DAYLIGHT
TZOFFSETFROM:+0100
TZOFFSETTO:+0200
TZNAME:CEST
DTSTART:20180325T010000
END:DAYLIGHT
BEGIN:STANDARD
TZOFFSETFROM:+0200
TZOFFSETTO:+0100
TZNAME:CET
DTSTART:20181028T010000
END:STANDARD
END:VTIMEZONE
BEGIN:VEVENT
DTSTART;TZID=Europe/Berlin:20181213T180000
DTEND;TZID=Europe/Berlin:20181213T223000
DTSTAMP:20260425T234816
CREATED:20181204T103253Z
LAST-MODIFIED:20181204T103253Z
UID:868-1544724000-1544740200@www.meetxr.de
SUMMARY:Creative Tech Nights
DESCRIPTION:Hamburg Unreal Engine Meetup is partnering up with Next.Reality Hamburg (https://www.meetup.com/nextReality/)\, as well as the Animators Association (https://www.ag-animationsfilm.com/) to bring you: Creative Tech Nights!\nYou will be hearing inspiring guests talk about the intersection of real-time technology like Unreal Engine\, Animation and VR.\nAnd all of this in a location which couldn’t be any better – VRHQ in Hafen City!\nAlso – lots of Demos – so grab a free drink and get in line for some amazing experiences. \nGuests:\nTobias Stärk | http://vrdarkroom.com/\nPiers Goffart & Eric Giessmann | https://www.lavamachine.com/\nTobias Wüstefeld | https://www.tobiaswuestefeld.de/\n@creativetechgirl | https://www.instagram.com/creativetechgirl/ \nLocation:\nhttps://vrhq.de/ \nProgram:\n18:00 _ Doors Open\n18:30 _ Welcome\n18:45 _ Talks\n20:00 _ Demos / Exhibition & Networking
URL:https://www.meetxr.de/event/creative-tech-nights/
LOCATION:VRHQ – Virtual Reality Headquarters\, Am Sandtorkai 27/28\, Hamburg\, 20457\, Deutschland
CATEGORIES:play,talk
ATTACH;FMTTYPE=image/jpeg:https://www.meetxr.de/wp-content/uploads/2018/12/2018-12-13_VRHQ-CreativeTech.jpg
END:VEVENT
END:VCALENDAR