BEGIN:VCALENDAR
VERSION:2.0
PRODID:-//meetXR - ECPv5.8.0//NONSGML v1.0//EN
CALSCALE:GREGORIAN
METHOD:PUBLISH
X-WR-CALNAME:meetXR
X-ORIGINAL-URL:https://www.meetxr.de
X-WR-CALDESC:Veranstaltungen für meetXR
BEGIN:VTIMEZONE
TZID:Europe/Berlin
BEGIN:DAYLIGHT
TZOFFSETFROM:+0100
TZOFFSETTO:+0200
TZNAME:CEST
DTSTART:20190331T010000
END:DAYLIGHT
BEGIN:STANDARD
TZOFFSETFROM:+0200
TZOFFSETTO:+0100
TZNAME:CET
DTSTART:20191027T010000
END:STANDARD
END:VTIMEZONE
BEGIN:VEVENT
DTSTART;VALUE=DATE:20190119
DTEND;VALUE=DATE:20190122
DTSTAMP:20260426T000928
CREATED:20190105T175209Z
LAST-MODIFIED:20190105T175306Z
UID:949-1547866800-1548039599@www.meetxr.de
SUMMARY:Crash Course in Unity and SteamVR
DESCRIPTION:Du möchtest in das Mega-Thema Virtual Reality einsteigen? \nDann komm‘ vorbei\, im Interaction Design Lab\, am 19.+20. Januar 2019… \nAnmeldung per Mail an Jesaja.Mayer@HAWK.de
URL:https://www.meetxr.de/event/crash-course-in-unity-and-steamvr/
LOCATION:HAWK Hildesheim\, Renatastraße 11\, Hildesheim\, 31134\, Deutschland
CATEGORIES:hack,talk
ATTACH;FMTTYPE=image/png:https://www.meetxr.de/wp-content/uploads/2019/01/2019-01-20_CrashkursUnity.png
END:VEVENT
END:VCALENDAR