BEGIN:VCALENDAR
VERSION:2.0
PRODID:-//meetXR - ECPv5.8.0//NONSGML v1.0//EN
CALSCALE:GREGORIAN
METHOD:PUBLISH
X-WR-CALNAME:meetXR
X-ORIGINAL-URL:https://www.meetxr.de
X-WR-CALDESC:Veranstaltungen für meetXR
BEGIN:VTIMEZONE
TZID:Europe/Berlin
BEGIN:DAYLIGHT
TZOFFSETFROM:+0100
TZOFFSETTO:+0200
TZNAME:CEST
DTSTART:20210328T010000
END:DAYLIGHT
BEGIN:STANDARD
TZOFFSETFROM:+0200
TZOFFSETTO:+0100
TZNAME:CET
DTSTART:20211031T010000
END:STANDARD
END:VTIMEZONE
BEGIN:VEVENT
DTSTART;TZID=Europe/Berlin:20210910T180000
DTEND;TZID=Europe/Berlin:20210910T190000
DTSTAMP:20260425T211458
CREATED:20210831T203235Z
LAST-MODIFIED:20210831T203235Z
UID:3183-1631296800-1631300400@www.meetxr.de
SUMMARY:CONNECT! X ARS ELECRONICA | A NEW DIGITAL DEAL
DESCRIPTION:A VR meetup series in the field of immersive technology. \nMeetup on the Social VR platform AltspaceVR\non September 10\, 2021\nat 12:00 EDT / 18:00 CEST. \nThe network meetings aim to highlight and virtually connect women and gender-marginalized people from Europe and North-America working in the creative industries and around immersive technologies to create new international connections and foster potential cooperation.\nThese Meetups are planned as a series of events with a different focus for each event. \nThis meeting is presented in collaboration with Ars Electronica – Festival for digital Art: \nMEETUP #6: A NEW DIGITAL DEAL\nThis meetup will take ARS ELECTRONICA’s festival’s motto “A new digital deal” as a starting point to focus on subversive-creative strategies in the digital realm to empower marginalised communities with tools of creative computation and gaming. \n\nKeynote with Q&A by Liane Décary-Chen (CA) Studio Manager at Horsetail Studios\nFireside Chat with Marina Díez (ES/GB) Emotional Game Designer & CEO at 3ofcups Games\n\nSpeakers: \nLiane Décary-Chen (CA)\nLiane Décary-Chen is a designer\, creative coder\, and community organizer operating within the fields of digital and interactive media. A common thread which runs through all her projects is the desire to equip people with tools that will allow them to take control over their bodies\, lives\, and stories. She has worked in numerous fields including wearable computing\, games\, interactive filmmaking\, and tech education. She has been working with TAG Lab since 2016 and has collaborated with Vice Quebec\, Studio XX\, Cambridge Radical Tech Series\, festival Image+Nation\, ELEKTRA\, and Shanghai Design Week. \nMarina Díez Pereiro (GB/ES)\nMarina Díez (she/her) is a Spanish award-winning game designer based in London\, UK. She’s the CEO and Creative Director at Three of Cups Games\, a games studio based in London. Besides\, she is a Lead Game Designer at Un Je Ne Sais Quoi Studios\, currently working on the game Dordogne. Marina also works as a consultant on game design and work ethics for other companies around the world. \nParticipation via VR headset\, Windows PC and Mac OSX (beta version) in 2D mode and live stream via Zoom. \n\nRSVP to participate via AltspaceVR\nLink to participate via Zoom | Passcode: 1c^Me?\n\nPlease note:\nNew users will have to first download the app and then make an account inside the AltspaceVR application. This works on all platforms like PC\, Mac OSX\, Oculus Quest\, etc. \n\nDownload the app\nHere’s more about technical requirements and how to join the meetup.\n\nARS ELECTRONICA\nArs Electronica is the most important international fetsival of digital art\, presenting trends and long-term developments in a future-oriented manner in the form of artistic works\, discussion forums and scientific support. \nThis year\, Ars Electronica 2021 will take place under the motto A NEW DIGITAL DEAL from 8 to 12 September 2021. For the second time since 1979\, it will be a hybrid event comprising exhibitions\, concerts\, talks\, conferences\, workshops and guided tours in Linz\, Austria\, and over 80 other locations around the globe. \nMore information:\nhttps://ars.electronica.art/news/en/ \nABOUT CONNECT!\nConnect! is a VR meetup series highlighting and connecting women and gender-marginalized people in the field of immersive technology\, organized by the Goethe-Institut Montréal in collaboration with Women in Immersive Tech Europe (WIIT)\, initiated by Sara Lisa Vogl. More about the project.
URL:https://www.meetxr.de/event/connect-x-ars-elecronica-a-new-digital-deal/
LOCATION:AltspaceVR\, AltspaceVR
CATEGORIES:talk
ATTACH;FMTTYPE=image/jpeg:https://www.meetxr.de/wp-content/uploads/2021/08/EventVisual_Connect_6_ANewDigitalDeal_FullHD.jpg
END:VEVENT
END:VCALENDAR