BEGIN:VCALENDAR
VERSION:2.0
PRODID:-//meetXR - ECPv5.8.0//NONSGML v1.0//EN
CALSCALE:GREGORIAN
METHOD:PUBLISH
X-WR-CALNAME:meetXR
X-ORIGINAL-URL:https://www.meetxr.de
X-WR-CALDESC:Veranstaltungen für meetXR
BEGIN:VTIMEZONE
TZID:Europe/Berlin
BEGIN:DAYLIGHT
TZOFFSETFROM:+0100
TZOFFSETTO:+0200
TZNAME:CEST
DTSTART:20210328T010000
END:DAYLIGHT
BEGIN:STANDARD
TZOFFSETFROM:+0200
TZOFFSETTO:+0100
TZNAME:CET
DTSTART:20211031T010000
END:STANDARD
END:VTIMEZONE
BEGIN:VEVENT
DTSTART;TZID=Europe/Berlin:20210401T180000
DTEND;TZID=Europe/Berlin:20210401T200000
DTSTAMP:20260425T211422
CREATED:20210324T124056Z
LAST-MODIFIED:20210831T202313Z
UID:2947-1617300000-1617307200@www.meetxr.de
SUMMARY:CONNECT! | CINEMATIC VR
DESCRIPTION:Eine VR-Meetup-Reihe für Frauen und gender-marginalisierte Personen im Bereich immersiver Technologie. \nNach mehreren erfolgreichen Veranstaltungen im letzten Jahr\, geht Connect! 2021 in die nächste Runde!\nDie Netzwerktreffen zielen darauf ab\, Frauen und gendermarginalisierte Personen aus Europa und Nordamerika \, die in der Kreativwirtschaft und rund um immersive Technologien arbeiten\, virtuell miteinander zu verbinden\, um neue internationale Verbindungen zu schaffen und potenzielle Kooperationen zu fördern. Diese Meetups sind als Veranstaltungsreihe geplant\, die für jede Veranstaltung einen anderen Schwerpunkt hat. \nBei diesem vierten Treffen dreht sich alles um Kino und Virtual Reality: \nMEETUP #4: CINEMATIC VR\nEinführung von Astrid Kahmke (DE)\, Direktorin des European Creator‘s Lab\nKeynote von Maria Courtial (DE)\, Geschäftsführerin des VFX- und VR-Studios Faber Courtial\nFireside-Chat mit Cathy Hackl (USA)\, Futuristin\, VR/AR Producerin und Vordenkerin\, moderiert von Sara Lisa Vogl\nTeilnahme in AltspaceVR über VR-Headset\, im 2D-Modus via Windows PC und Mac OSX (Beta Version) sowie Live-Stream via Zoom. \nBitte beachten:\nAltspaceVR hat die Anmeldung über ihre Website deaktiviert. Daher müssen neue Benutzer*innen\, die noch kein AltspaceVR-Konto haben\, zuerst die Anwendung herunterladen und dann ein Konto innerhalb der AltspaceVR-Anwendung einrichten. Dies funktioniert auf allen Plattformen wie PC\, Mac OSX (Beta Versiob) und Oculus Quest\, etc. \nAnmeldung zur Teilnahme über AltspaceVR:\nhttps://account.altvr.com/events/1695057456599663453\nZoom-Link folgt. \nÜber die Sprecherinnen\nAstrid Kahmke ist Leiterin des European Creator’s Lab in München. \nMaria Courtial\, gelernte Industriedesignerin\, ist Mitgründerin\, Produzentin und Geschäftsführerin von Faber Courtial\, einem der führenden VR- und VFX-Studios in Deutschland. Nach ihrem Abschluss in Industriedesign im Jahr 1998 gründete sie Faber Courtial zusammen mit ihrem Mann Joerg. Seit 2014 hat Maria hauptsächlich die Position der Produzentin und Teil-Regisseurin übernommen.\nDie Erstellung von 360°-Filminhalten wurde ihr mehr und mehr zu einer Herzensangelegenheit. Von Anfang an arbeiten sie und ihr Mann Jörg eng zusammen mit dem Anspruch\, hohe Maßstäbe in der Art des Storytellings und der Umsetzung neuer VR-Techniken zu setzen.\nMit ihren preisgekrönten VR-Filmen Volcanos\, Gladiatoren im Kolosseum und 2nd Step – alle im Auftrag des renommierten öffentlich-rechtlichen Senders ZDF produziert – hat sich Faber-Courtial als VR-Pionier und Anbieter von Premium-VR-Inhalten auf dem internationalen Markt etabliert. Ihr neuester VR-Film 1st Step\, der sich mit den Apollo-Missionen beschäftigt\, feierte seine internationale Premiere auf dem Tribeca Film Festival 2020 und wurde mit dem VeeR Future Award bei Cannes XR 2020 sowie dem EMEA Lumiere Award (Stereopsia 2020) ausgezeichnet. Außerdem wurde er für die Best-of-VR-Sektion bei den Filmfestspielen in Venedig im selben Jahr ausgewählt.\nInzwischen erstellt das Studio zunehmend Inhalte in 6DOF. Ihr neues VR-Projekt „Genesis“ wird dieses Jahr sowohl als VR-Film als auch später als 6DOF-Erlebnis veröffentlicht. \nCathy Hackl ist eine führende Tech-Futuristin und weltweit anerkannte Unternehmensführerin\, spezialisiert auf Augmented Reality (AR)\, Virtual Reality (VR) und Spatial Computing. Sie ist eine von LinkedIns Top-Technologiestimmen (die höchste Auszeichnung auf der Plattform) und eine Verfechterin der Vielfalt.\nHackl hat mit einigen der größten Namen der Tech-Branche zusammengearbeitet\, darunter Amazon Web Services (AWS)\, Magic Leap und HTC VIVE. Sie leitet die Futures Intelligence Group\, ein Zukunftsforschungs- und Beratungsunternehmen\, das mit Kunden aus den Bereichen Technologie\, Mode\, Medien\, Regierung und Verteidigung zusammenarbeitet und Innovationsstrategien\, strategische Vorausschau und aufkommende Technologien umsetzt.\nBevor sie in der Technologiebranche arbeitete\, war sie bei Medienunternehmen wie CNN\, Discovery und ABC News tätig. Sie ist auch die Schöpferin der ersten holografischen Pressemitteilung der Welt und liebt alles\, was mit Spatial Computing\, digitaler Wirtschaft und Futurismus zu tun hat. \nÜber CONNECT!\nConnect! ist eine Veranstaltungsreihe für Frauen und gender-marginalisierte Personen im Bereich immersiver Technologie des Goethe-Instituts Montréal in Zusammenarbeit mit Women in Immersive Tech Europe (WIIT)\, initiiert von Sara Lisa Vogl. Projektseite.
URL:https://www.meetxr.de/event/connect-cinematic-vr/
LOCATION:AltspaceVR\, AltspaceVR
CATEGORIES:talk
ATTACH;FMTTYPE=image/jpeg:https://www.meetxr.de/wp-content/uploads/2021/03/2021-04-01_CinematicVR04.jpg
ORGANIZER;CN="Women%20in%20Immersive%20Technologies":MAILTO:https://www.wiiteurope.org
END:VEVENT
END:VCALENDAR