BEGIN:VCALENDAR
VERSION:2.0
PRODID:-//meetXR - ECPv5.8.0//NONSGML v1.0//EN
CALSCALE:GREGORIAN
METHOD:PUBLISH
X-WR-CALNAME:meetXR
X-ORIGINAL-URL:https://www.meetxr.de
X-WR-CALDESC:Veranstaltungen für meetXR
BEGIN:VTIMEZONE
TZID:Europe/Berlin
BEGIN:DAYLIGHT
TZOFFSETFROM:+0100
TZOFFSETTO:+0200
TZNAME:CEST
DTSTART:20200329T010000
END:DAYLIGHT
BEGIN:STANDARD
TZOFFSETFROM:+0200
TZOFFSETTO:+0100
TZNAME:CET
DTSTART:20201025T010000
END:STANDARD
END:VTIMEZONE
BEGIN:VEVENT
DTSTART;TZID=Europe/Berlin:20200508T190000
DTEND;TZID=Europe/Berlin:20200508T210000
DTSTAMP:20260425T185139
CREATED:20200519T152335Z
LAST-MODIFIED:20200519T152335Z
UID:2596-1588964400-1588971600@www.meetxr.de
SUMMARY:Bremersiv Meetup – Welcome to AltspaceVR
DESCRIPTION:Am Freitag\, den 8. Mai wollen wir uns zu einem digitalen Bremersiv Meetup in AltspaceVR treffen. Da viele von uns relativ neu in dieser virtuellen Welt sind und AltspaceVR weit mehr bietet als einen Ort für Treffen\, wollen wir uns beim Meetup etwas genauer mit AltspaceVR auseinander setzen. \nZunächst wird uns Farina ein bisschen was über AltspaceVR erzählen\, euch ein paar nützliche Funktionen zeigen und was alles so in AltspaceVR passiert. Anschließend erzählen uns Lulu und Dennis von HEC wie sie momentan virtuell arbeiten und SocialVR für Meetings und Projekte nutzen. Als Drittes zeigt uns Finn\, wie man eigene Welten für AltspaceVR erstellt und importiert. Danach haben wir noch genug Zeit um über Ideen und alles mögliche zu quatschen und per Portal auf eine kleine World Hopping Tour zu gehen. \nWenn ihr Fragen\, Anregungen oder Ideen habt\, meldet euch gerne. Wir freuen uns euch virtuell zu sehen! \n______________________\nSo könnt ihr an unserem virtuellen Stammtisch teilnehmen:\n1. Als erstes braucht ihr einen Account in Altspace\, diesen könnt ihr hier anlegen: https://account.altvr.com/users/sign_up\n2. Installiert AltspaceVR auf dem Gerät eurer Wahl. AltspaceVR gibt es kostenlos für alle gängigen VR Headsets und sogar als 2D Version für euren PC\, wenn ihr keine eigene Brille habt: https://altvr.com/get-altspacevr/\n3. Das Bremersiv Meetup findet ihr hier: https://account.altvr.com/events/1463895204103716915
URL:https://www.meetxr.de/event/bremersiv-meetup-welcome-to-altspacevr/
LOCATION:AltspaceVR\, AltspaceVR
CATEGORIES:talk
ATTACH;FMTTYPE=image/jpeg:https://www.meetxr.de/wp-content/uploads/2020/05/2020-05-08_BremersivMeetup_FullHD.jpg
END:VEVENT
END:VCALENDAR