BEGIN:VCALENDAR
VERSION:2.0
PRODID:-//meetXR - ECPv5.8.0//NONSGML v1.0//EN
CALSCALE:GREGORIAN
METHOD:PUBLISH
X-WR-CALNAME:meetXR
X-ORIGINAL-URL:https://www.meetxr.de
X-WR-CALDESC:Veranstaltungen für meetXR
BEGIN:VTIMEZONE
TZID:Europe/Berlin
BEGIN:DAYLIGHT
TZOFFSETFROM:+0100
TZOFFSETTO:+0200
TZNAME:CEST
DTSTART:20220327T010000
END:DAYLIGHT
BEGIN:STANDARD
TZOFFSETFROM:+0200
TZOFFSETTO:+0100
TZNAME:CET
DTSTART:20221030T010000
END:STANDARD
END:VTIMEZONE
BEGIN:VEVENT
DTSTART;TZID=Europe/Berlin:20220309T100000
DTEND;TZID=Europe/Berlin:20220309T110000
DTSTAMP:20260425T213121
CREATED:20220308T133144Z
LAST-MODIFIED:20220308T135505Z
UID:4737-1646820000-1646823600@www.meetxr.de
SUMMARY:Blitzlichter XR – From Reality Time to Realtime
DESCRIPTION:Blitzlichter XR\nFrom Reality Time to Realtime: Wie bringt man reale Objekte in die virtuelle Welt \nExtended Reality (XR) ist der Sammelbegriff für Augmented\, Virtual und Mixed Reality. Mit der neuen Reihe „Blitzlichter XR“ bieten das Digitalisierungszentrum Ulm | Alb-Donau | Biberach\, die Hochschule Neu-Ulm und InnoSÜD im regelmässigen Turnus ein einstündiges Update aus der erweiterten Realität mit Impulsen aus Virtual\, Augmented und Mixed Realities.\n\nDieses Mal schauen wir uns an\, wie wir reale Objekte in virtuelle Welten bringen können. Dabei beleuchten wir die verschiedensten Ansätze- von der Aufbereitung von CAD Daten über die Modellierung in 3D Programmen bis hin zu 3D Scans. Wie können beispielsweise moderne iPads und iPhones mit der LidAR Technologie genutzt werden\, um Inhalte zu erstellen? Welche Fähigkeiten muss ich mitbringen oder erlernen und welche Workflows gibt es? Auf diese Fragen gibt’s am 9.3. Antworten. \nAnschließend zeigen wir in unserem XR Wrap Up ausgewählte Neuigkeiten\, Trends und Entwicklungen aus der Branche – kurz und knackig zusammengefasst. \nAbgerundet wird die Veranstaltung durch einen offenen Abschluss mit der Möglichkeit\, Fragen zu stellen\, zu diskutieren und Erfahrungen auszutauschen. \nDie  Veranstaltung ist einen Online Veranstaltung via Zoom. Die Teilnahme an der Veranstaltung ist kostenlos. \nZielgruppe:\nEinsteiger und interessierte Unternehmen\, die sich bereits mit dem Thema XR befassen oder das Thema in Zukunft angehen möchten. \nTechnische Voraussetzungen: \n\nStabile Internetverbindung\nLaptop mit Mikrofon\nWir empfehlen außerdem den Gebrauch einer Webcam\n\nAnsprechpartner: \nJan Fiedler\nWissenschaftlicher Mitarbeiter Virtual / Augmented Reality\, InnoSÜD/HNU\n0731 / 9762 1208\njan.fiedler@hnu.de \nJan Schäfer\nFachberater Virtual / Augmented Reality\n0731 / 7255 7528\nj.schaefer@dz-uab.de \nPartner: \nRegionaler Forschungsverbund InnoSÜD\nMehr erfahren >>
URL:https://www.meetxr.de/event/blitzlichter-xr-from-reality-time-to-realtime/
LOCATION:Zoom Meeting\, Zoom
CATEGORIES:talk
ATTACH;FMTTYPE=image/png:https://www.meetxr.de/wp-content/uploads/2022/03/2022-03-09_BlitzlichterXR.png
END:VEVENT
END:VCALENDAR