BEGIN:VCALENDAR
VERSION:2.0
PRODID:-//meetXR - ECPv5.8.0//NONSGML v1.0//EN
CALSCALE:GREGORIAN
METHOD:PUBLISH
X-WR-CALNAME:meetXR
X-ORIGINAL-URL:https://www.meetxr.de
X-WR-CALDESC:Veranstaltungen für meetXR
BEGIN:VTIMEZONE
TZID:Europe/Berlin
BEGIN:DAYLIGHT
TZOFFSETFROM:+0100
TZOFFSETTO:+0200
TZNAME:CEST
DTSTART:20200329T010000
END:DAYLIGHT
BEGIN:STANDARD
TZOFFSETFROM:+0200
TZOFFSETTO:+0100
TZNAME:CET
DTSTART:20201025T010000
END:STANDARD
END:VTIMEZONE
BEGIN:VEVENT
DTSTART;TZID=Europe/Berlin:20200721T183000
DTEND;TZID=Europe/Berlin:20200721T200000
DTSTAMP:20260425T213113
CREATED:20200717T170126Z
LAST-MODIFIED:20200804T165734Z
UID:2673-1595356200-1595361600@www.meetxr.de
SUMMARY:Behind the Scenes: Designing gesture interactions for XR Copresence
DESCRIPTION:XR Bootcamp Open Lecture II with Magic Leap. Behind the Scenes: Designing compelling gesture interactions for XR Copresence.\nWant to get a peek into the world’s first-ever hand tracking and interaction design master class? \nAttend XR Bootcamp’s master class live stream with Karen Stolzenberg (Lead Interaction Designer) and Savannah Niles (Lead Product Manager)\, from Magic Leap. The event is supported by the VRARA. \nIn a post-COVID world\, XR-enabled copresence is more relevant than ever. Lead designer Karen Stolzenberg and Product Lead Savannah Niles will speak about designing gesture-based interactions and embodied communication for Avatar Chat\, a mixed-reality copresence experience on Magic Leap. They’ll share best practices for designing gesture interactions for copresence and share challenges and insights from their work. \nReceive the link to the live stream after registration! \nExperts from the hand interaction group get the chance to submit their questions live during the fireside chat with Karen and Savannah. \nApply here to the hand interaction experts group: https://xrbootcamp.com/hand-interaction-expert-group/ \nSavannah Niles\, Product Lead\, Magic Leap\nSavannah Niles is a multi-disciplinary designer and technologist working in XR. She’s a product lead at Magic Leap\, leading cross-functional teams to develop new paradigms for interaction\, communication\, and copresence for a spatial computing operating system. She graduated in 2015 with her Master’s from the Media Lab at MIT\, and has designed interactive experiences for Walt Disney Imagineering and Twitter. She’s served as a juror at SIGGRAPH for 3 years. Savannah is based in Miami. \nKaren Stolzenberg\, Lead Interaction Designer\, Magic Leap\nFrom a background in architecture\, Karen works at the intersection of people\, space and technology. Currently\, Karen is a Lead Interaction Designer at Magic Leap\, where she is leads design for OS Input and Interactions on the Platform Design team. Karen led design teams to ship 4 platform apps on the first Magic Leap 1 wearable – Social\, Avatar Chat\, Outfit\, and Casting. These projects enable multi user experiences\, embodied communication and social presence in XR. Karen is forever interested in expanding the physical world through digital possibilities.
URL:https://www.meetxr.de/event/behind-the-scenes-designing-gesture-interactions-for-xr-copresence/
LOCATION:Online Event\, online
CATEGORIES:talk
ATTACH;FMTTYPE=image/png:https://www.meetxr.de/wp-content/uploads/2020/07/2020-07-21_DesigningGestureInteraction.png
END:VEVENT
END:VCALENDAR