BEGIN:VCALENDAR
VERSION:2.0
PRODID:-//meetXR - ECPv5.8.0//NONSGML v1.0//EN
CALSCALE:GREGORIAN
METHOD:PUBLISH
X-WR-CALNAME:meetXR
X-ORIGINAL-URL:https://www.meetxr.de
X-WR-CALDESC:Veranstaltungen für meetXR
BEGIN:VTIMEZONE
TZID:Europe/Berlin
BEGIN:DAYLIGHT
TZOFFSETFROM:+0100
TZOFFSETTO:+0200
TZNAME:CEST
DTSTART:20210328T010000
END:DAYLIGHT
BEGIN:STANDARD
TZOFFSETFROM:+0200
TZOFFSETTO:+0100
TZNAME:CET
DTSTART:20211031T010000
END:STANDARD
END:VTIMEZONE
BEGIN:VEVENT
DTSTART;TZID=Europe/Berlin:20210602T180000
DTEND;TZID=Europe/Berlin:20210602T200000
DTSTAMP:20260425T212922
CREATED:20210527T090010Z
LAST-MODIFIED:20210527T090200Z
UID:3095-1622656800-1622664000@www.meetxr.de
SUMMARY:AWE Nite: XR Streaming
DESCRIPTION:The emergence of smart glasses has led to a revolution in corporate efficiency – but mobile devices come with their own limitations in computing and graphics power. \nAs the industry matures\, we see a rising demand for more sophisticated AR/VR applications. XR streaming is a technology that unleashes the full potential of XR. Streamed XR allows applications to surpass performance limits and to be used across platforms. This means experiencing 3D content in unprecedented detail and complexity\, less customization work for developers\, and a wider range of hardware options for consumers to choose from. \nWill streaming be the future for more immersive experiences and critical use cases? \nJoin us June 2 for AWE Nite: XR Streaming\, where we will discuss the power of streaming XR\, now and into the future. \nWHEN\nJune 2 at 12pm EDT / 9am PDT / 5pm BST \nWHERE\nJoin through Zoom\, link provided upon registration. \nPANELISTS\nWe have assembled a stellar panel with leaders across the XR Fitness community: \n1. Suzanne Borders – CEO & Co-Founder\, BadVR\n2. Evan Helda – Spatial Computing (AR/VR)\, Amazon Web Services\n3. Dr. Nicolas Schallhammer – Product Manager Engineering Visualization & XR\, BMW Group\n4. Luis Bollinger – Co-Founder & CMO\, Holo-Light\n5. Gavin Newton-Tanzer – Partnership Director\, AWE | President\, Sunrise International – as your host
URL:https://www.meetxr.de/event/awe-nite-xr-streaming/
LOCATION:Zoom Meeting\, Zoom
CATEGORIES:talk
ATTACH;FMTTYPE=image/jpeg:https://www.meetxr.de/wp-content/uploads/2021/05/2021-06-02_AWENite.jpg
END:VEVENT
END:VCALENDAR