BEGIN:VCALENDAR
VERSION:2.0
PRODID:-//meetXR - ECPv5.8.0//NONSGML v1.0//EN
CALSCALE:GREGORIAN
METHOD:PUBLISH
X-WR-CALNAME:meetXR
X-ORIGINAL-URL:https://www.meetxr.de
X-WR-CALDESC:Veranstaltungen für meetXR
BEGIN:VTIMEZONE
TZID:Europe/Berlin
BEGIN:DAYLIGHT
TZOFFSETFROM:+0100
TZOFFSETTO:+0200
TZNAME:CEST
DTSTART:20190331T010000
END:DAYLIGHT
BEGIN:STANDARD
TZOFFSETFROM:+0200
TZOFFSETTO:+0100
TZNAME:CET
DTSTART:20191027T010000
END:STANDARD
END:VTIMEZONE
BEGIN:VEVENT
DTSTART;TZID=Europe/Berlin:20191017T090000
DTEND;TZID=Europe/Berlin:20191018T160000
DTSTAMP:20260425T212816
CREATED:20190822T152956Z
LAST-MODIFIED:20190822T152956Z
UID:1842-1571302800-1571414400@www.meetxr.de
SUMMARY:AWE EU 2019
DESCRIPTION:AWE returns to Europe for the fourth year 17-18 October in Munich\, Germany. Don’t miss the world’s leading spatial computing (AR/VR/MR) event series\, what Forbes calls “the most essential AR+VR conference and expo\,” in a unique market. \nSpatial computing is at a critical crossroads. Find out why this is the case globally and in Europe as industry leaders take the AWE EU stage. Hear from those sharing real-life use cases\, solving major technical challenges\, bringing AR/VR into new sectors\, considering ethical and legal issues\, promoting diversity\, and working on the cutting edge of XR development. Enter the next dimension at AWE EU 2019!
URL:https://www.meetxr.de/event/awe-eu-2019/
LOCATION:MOC Veranstaltungscenter München\, Lilienthalallee 40\, München\, 80939\, Deutschland
CATEGORIES:play,talk
ATTACH;FMTTYPE=image/jpeg:https://www.meetxr.de/wp-content/uploads/2019/08/2019-10-17_AWE-EU-2019.jpg
END:VEVENT
END:VCALENDAR