BEGIN:VCALENDAR
VERSION:2.0
PRODID:-//meetXR - ECPv5.8.0//NONSGML v1.0//EN
CALSCALE:GREGORIAN
METHOD:PUBLISH
X-WR-CALNAME:meetXR
X-ORIGINAL-URL:https://www.meetxr.de
X-WR-CALDESC:Veranstaltungen für meetXR
BEGIN:VTIMEZONE
TZID:Europe/Berlin
BEGIN:DAYLIGHT
TZOFFSETFROM:+0100
TZOFFSETTO:+0200
TZNAME:CEST
DTSTART:20180325T010000
END:DAYLIGHT
BEGIN:STANDARD
TZOFFSETFROM:+0200
TZOFFSETTO:+0100
TZNAME:CET
DTSTART:20181028T010000
END:STANDARD
END:VTIMEZONE
BEGIN:VEVENT
DTSTART;TZID=Europe/Berlin:20181122T180000
DTEND;TZID=Europe/Berlin:20181122T200000
DTSTAMP:20260425T213049
CREATED:20181027T204658Z
LAST-MODIFIED:20181027T204658Z
UID:780-1542909600-1542916800@www.meetxr.de
SUMMARY:Augmented Reality - eine fantastische Dimension der Kommunikation und Präsentation
DESCRIPTION:Virtuelle Realität für reales Geschäft \nAugmented Reality (AR) ist in Unternehmen jeder Größe angekommen. Die virtuelle Technologie optimiert Geschäftsabläufe und Prozesse. Mehr Vertriebserfolg\, Kostenersparnis\, Qualitätssteigerung\, schnellerer Service und bessere Ausbildung sind die Treiber der Technologie. \nEntdecken Sie Ihre Möglichkeiten  \nDie RADIUSMEDIA Veranstaltungsreihe „augment it – Zeigen\, was geht“ ermöglicht Ihnen\, das AR-Potential für Ihr Unternehmen zu entdecken. Erleben Sie Augmented Reality-Beispiele\, die wir für unsere Kunden SAACKE\, Argo-Hytos oder REMON B.V. realisiert haben. Wir laden Sie ein zum Ausprobieren von einfachen Tablet-Applikationen bis hin zur AR-‚Königsklasse’ auf Microsoft HoloLens. Wir beantworten Ihre Fragen und Sie erhalten aufschlußreiche Informationen. \nDie Teilnahme ist kostenlos. Freuen Sie sich auf einen informativen Abend bei kleinen Snacks und Getränken und in entspannter Atmosphäre.
URL:https://www.meetxr.de/event/augmented-reality-eine-fantastische-dimension-der-kommunikation-und-praesentation/
LOCATION:RADIUSMEDIA augment it LabSpace\, Konsul-Smidt-Straße 8u\, Bremen\, 28217\, Deutschland
CATEGORIES:talk
ATTACH;FMTTYPE=image/png:https://www.meetxr.de/wp-content/uploads/2018/10/780_image_original.png
END:VEVENT
END:VCALENDAR