BEGIN:VCALENDAR
VERSION:2.0
PRODID:-//meetXR - ECPv5.8.0//NONSGML v1.0//EN
CALSCALE:GREGORIAN
METHOD:PUBLISH
X-WR-CALNAME:meetXR
X-ORIGINAL-URL:https://www.meetxr.de
X-WR-CALDESC:Veranstaltungen für meetXR
BEGIN:VTIMEZONE
TZID:Europe/Berlin
BEGIN:DAYLIGHT
TZOFFSETFROM:+0100
TZOFFSETTO:+0200
TZNAME:CEST
DTSTART:20210328T010000
END:DAYLIGHT
BEGIN:STANDARD
TZOFFSETFROM:+0200
TZOFFSETTO:+0100
TZNAME:CET
DTSTART:20211031T010000
END:STANDARD
END:VTIMEZONE
BEGIN:VEVENT
DTSTART;TZID=Europe/Berlin:20210512T180000
DTEND;TZID=Europe/Berlin:20210512T200000
DTSTAMP:20260426T001024
CREATED:20210504T114200Z
LAST-MODIFIED:20210504T114200Z
UID:3032-1620842400-1620849600@www.meetxr.de
SUMMARY:AugenBLICK mal! Diversity Workshop in Virtual Reality
DESCRIPTION:Wir geben euch einen Einblick in das ambitionierte VR Projekt von Brückenbauen und der Agentur Design4real\, um Diversity Workshops in Virtual Reality abzuhalten. Das Projekt ist mitgefördert vom FFF. Hierfür wurde eine eigene Multiuser VR Plattform geschrieben\, so wie einige 360° Videos und immersive Anwendungen produziert. Wo wir jetzt stehen und wie wir das mit einem bescheidenen Budget hinbekommen haben und welche Learnings wir dabei hatten\, wollen wir mit euch teilen. \nModeriert von Clarence Dadson CEO von Design4real\nwww.design4real.de \nMit Julia Halm Founder bei BrückenBauen gUG und Samh Yousef Kulturmoderator bei Bückenbauen\nhttps://gemeinsam-bruecken-bauen.de \nUnterstützt unser Crowdfunding Projekt auf https://www.startnext.com/augenblickmal \nDie Idee war\, in Zeiten der Pandemie Diversity Workshops ortsunabhängig durchzuführen. \nEntstanden ist unser aktueller kulturmoderierter VIRTUAL REALITY-Workshop „AugenBLICK mal!“ Dieser bietet einer Gruppe von 15 Teilnehmer:innen mit VIRTUAL REALITY-BRILLEN die Möglichkeit das eigene Verhalten u.a. in Situationen von Diskriminierung zu reflektieren\, um rassistische Dynamiken besser zu verstehen und somit aufzulösen. \nSo helfen wir mit\, zu sensibilisieren und zeigen\, dass Rassismus erkannt und nicht toleriert wird. \nMit Hilfe von 3D-360-Grad-Filmen und immersiven Realtime VR Stories können Erlebnisse von Opfern von Diskriminierung immersiv erlebt werden.
URL:https://www.meetxr.de/event/augenblick-mal-diversity-workshop-in-virtual-reality/
LOCATION:Online Event\, online
CATEGORIES:talk
ATTACH;FMTTYPE=image/jpeg:https://www.meetxr.de/wp-content/uploads/2021/05/2021-05-12_AugenBLICKmal.jpeg
END:VEVENT
END:VCALENDAR