BEGIN:VCALENDAR
VERSION:2.0
PRODID:-//meetXR - ECPv5.8.0//NONSGML v1.0//EN
CALSCALE:GREGORIAN
METHOD:PUBLISH
X-WR-CALNAME:meetXR
X-ORIGINAL-URL:https://www.meetxr.de
X-WR-CALDESC:Veranstaltungen für meetXR
BEGIN:VTIMEZONE
TZID:Europe/Berlin
BEGIN:DAYLIGHT
TZOFFSETFROM:+0100
TZOFFSETTO:+0200
TZNAME:CEST
DTSTART:20210328T010000
END:DAYLIGHT
BEGIN:STANDARD
TZOFFSETFROM:+0200
TZOFFSETTO:+0100
TZNAME:CET
DTSTART:20211031T010000
END:STANDARD
END:VTIMEZONE
BEGIN:VEVENT
DTSTART;TZID=Europe/Berlin:20210511T150000
DTEND;TZID=Europe/Berlin:20210511T163000
DTSTAMP:20260425T201828
CREATED:20210322T183516Z
LAST-MODIFIED:20210322T183516Z
UID:2943-1620745200-1620750600@www.meetxr.de
SUMMARY:AR/VR und Recht - Wem gehört die virtuelle Realität?
DESCRIPTION:Die technischen Möglichkeiten sind der Gesetzgebung oft weit voraus. Doch auch in virtuellen Welten sind die rechtlichen Rahmenbedingungen zu beachten. \nZielgruppe:\nWer bei seinem XR-Projekt nicht nur technisch\, sondern auch juristisch (Urheberrecht\, Markenrecht\, Titelschutz\, Datenschutz) auf dem aktuellen Stand sein möchte\, erhält hier wichtige rechtlich relevante Informationen und kann Fragen stellen. \nTermin:\nDienstag\, 11.05.2021\, 15.00 – 16.30 Uhr \nOrt:\nMeeting via Zoom\nhttps://us02web.zoom.us/meeting/register/tZUqfuivqzMjE9RuKPMNTEtEZ4_L3m4zJPLW\nDer finale Teilnahme-Link zum Online-Meeting wird erst nach erfolgreicher Registrierung automatisch an die angegebene Mailadresse versendet. \nAgenda: \n15.00 – 15.10 – Willkommen & Kurzvorstellung des XR HUB Nürnberg\nBenjamin Ulsamer\, Projektmanager\, XR HUB Nürnberg\nhttp://xrhub-nue.de/ \n15.10 – 15.55 – AR/VR und Recht – Wem gehört die virtuelle Realität?\nDie technischen Möglichkeiten sind der Gesetzgebung oft weit voraus. Doch auch in virtuellen Welten sind die rechtlichen Rahmenbedingungen zu beachten. Wir wollen uns einen Überblick über die gesetzlichen Grundlagen verschaffen: Darf ich die reale Welt virtuell kopieren? Unter welchen Voraussetzungen dürfen fremde Werke oder fremde Marken in eine virtuelle Umgebung integriert werden? Welche Rechte bestehen an Elementen der Augmented Reality und Virtual Reality? Wie verhält es sich mit dem Datenschutz? \nRechtsanwältin Cornelia Schnerch\, LL.M.\, Fachanwältin für Urheber- und Medienrecht\nhttp://www.kanzlei-schnerch.de/ \n15.55 – 16.30 – AR/VR und Recht – Q&A / eure Fragen\nIm Anschluss an ihren Vortrag beantwortet Fr. Cornelia Schnerch eure Fragen zum Thema „AR/VR und Recht“. \nHINWEIS: Da die Gesetzgebung an vielen Stellen „nicht so einfach“ ist\, reicht eure konkreten Fragestellungen bitte bei der Zoom-Registrierung im Feld „Fragen und Kommentare“ mit ein\, damit Fr. Schnerch sich entsprechend vorbereiten kann. Alle Fragen\, die während der Veranstaltung auftreten\, wird Fr. Schnerch versuchen\, ebenfalls zu beantworten. \nJetzt hier für das kostenfreie Online-Meeting registrieren:\nhttps://us02web.zoom.us/meeting/register/tZUqfuivqzMjE9RuKPMNTEtEZ4_L3m4zJPLW\nDer finale Teilnahme-Link zum Online-Meeting wird erst nach erfolgreicher Registrierung automatisch an die angegebene Mailadresse versendet. Max. 100 Teilnehmer. Es gilt: First come\, first served! \nÜber Cornelia Schnerch:\nFrau Rechtsanwältin Schnerch ist Fachanwältin für Urheber- und Medienrecht. Nach erfolgreichem Abschluss eines berufsbegleitenden Weiterbildungsstudiums im Medienrecht wurde ihr der akademische Grad des „Master of Laws“ (LL.M.) verliehen. Darüber hinaus hat Frau Rechtsanwältin Schnerch erfolgreich den Lehrgang zum Fachanwalt für gewerblichen Rechtsschutz absolviert. Frau Rechtsanwältin Schnerch ist Mitglied der Deutschen Vereinigung für gewerblichen Rechtsschutz und Urheberrecht GRUR\, des Leipziger Anwaltvereins\, der Arbeitsgemeinschaft Geistiges Eigentum und Medien im DAV sowie des Forums Junge Anwaltschaft im DAV. Des Weiteren ist sie Vorsitzende der Einigungsstelle für Wettbewerbsstreitigkeiten bei der Industrie- und Handelskammer zu Leipzig sowie im Fachanwaltsausschuss Urheber- und Medienrecht der Rechtsanwaltskammer Sachsen aktiv.\nhttp://www.kanzlei-schnerch.de/anwaeltin.php \nÜber XR HUB Nürnberg:\nDer XR HUB Nürnberg ist das XR-Kontakt-Netzwerk der Metropolregion Nürnberg mit dem Ziel\, den Austausch\, die Sichtbarkeit und den Marktzugang der XR-Unternehmen zu unterstützen\, sowie die XR-Technologie für Unternehmen aus der Metropolregion Nürnberg zugänglich zu machen.\nhttp://xrhub-nue.de/
URL:https://www.meetxr.de/event/ar-vr-und-recht-wem-gehoert-die-virtuelle-realitaet/
LOCATION:Zoom Meeting\, Zoom
CATEGORIES:talk
ATTACH;FMTTYPE=image/jpeg:https://www.meetxr.de/wp-content/uploads/2021/03/2021-05-11_Recht.jpeg
END:VEVENT
END:VCALENDAR