BEGIN:VCALENDAR
VERSION:2.0
PRODID:-//meetXR - ECPv5.8.0//NONSGML v1.0//EN
CALSCALE:GREGORIAN
METHOD:PUBLISH
X-WR-CALNAME:meetXR
X-ORIGINAL-URL:https://www.meetxr.de
X-WR-CALDESC:Veranstaltungen für meetXR
BEGIN:VTIMEZONE
TZID:Europe/Berlin
BEGIN:DAYLIGHT
TZOFFSETFROM:+0100
TZOFFSETTO:+0200
TZNAME:CEST
DTSTART:20190331T010000
END:DAYLIGHT
BEGIN:STANDARD
TZOFFSETFROM:+0200
TZOFFSETTO:+0100
TZNAME:CET
DTSTART:20191027T010000
END:STANDARD
END:VTIMEZONE
BEGIN:VEVENT
DTSTART;TZID=Europe/Berlin:20190403T183000
DTEND;TZID=Europe/Berlin:20190403T213000
DTSTAMP:20260425T211126
CREATED:20190314T172215Z
LAST-MODIFIED:20190327T172531Z
UID:1318-1554316200-1554327000@www.meetxr.de
SUMMARY:AR Talks #2
DESCRIPTION:Der lange Winterschlaf ist vorbei und wir sind zurück! \n++++ATTENTION: LEIDER sind die Plätze dieses mal sehr limitiert — wenn ihr also merkt\, dass ihr es zum Meetup nicht schafft\, meldet euch bitte ab\, um anderen auf der Warteliste eine Chance zu geben!++++ \nWir gehen in Runde #2\, dieses Mal am 3.4. in der Großen Elbstraße bei Celullar! Ab 18:30 ist Einlass\, es wird Snacks und Getränke geben und um 19 Uhr beginnt das Programm: \nRunning Order\, Talks 15 Minuten dauern\, zzgl. 15 Min Q&A: \n1. „Lindley AR — Die Auferstehung eines Giganten (MOPO)“\, Matthias Ewald\n2. „Der Nasse Fisch — AR Räume gestalten und spielbar machen“\, Garlic Games\n3. „HelpYourShelf — schneller auf den Punkt im Branding & Design-Prozess“\, appmotion & Ropelius\n4. tbd \n-> Testing der Magic Leap von CELLULAR\, Networking\, Bier und nächtliche Vibes Ausklang mit DJ WAAG. \nBei Fragen\, Ideen\, Anregungen\, meldet euch gerne bei uns. \nThorsten\, Lasse & Simon
URL:https://www.meetxr.de/event/ar-talks-2/
LOCATION:CELLULAR GmbH\, Große Elbstraße 39\, Hamburg\, DE
CATEGORIES:talk
ATTACH;FMTTYPE=image/png:https://www.meetxr.de/wp-content/uploads/2019/03/1318_image_highres_479387082.png
END:VEVENT
END:VCALENDAR