BEGIN:VCALENDAR
VERSION:2.0
PRODID:-//meetXR - ECPv5.8.0//NONSGML v1.0//EN
CALSCALE:GREGORIAN
METHOD:PUBLISH
X-WR-CALNAME:meetXR
X-ORIGINAL-URL:https://www.meetxr.de
X-WR-CALDESC:Veranstaltungen für meetXR
BEGIN:VTIMEZONE
TZID:Europe/Berlin
BEGIN:DAYLIGHT
TZOFFSETFROM:+0100
TZOFFSETTO:+0200
TZNAME:CEST
DTSTART:20190331T010000
END:DAYLIGHT
BEGIN:STANDARD
TZOFFSETFROM:+0200
TZOFFSETTO:+0100
TZNAME:CET
DTSTART:20191027T010000
END:STANDARD
END:VTIMEZONE
BEGIN:VEVENT
DTSTART;TZID=Europe/Berlin:20190306T180000
DTEND;TZID=Europe/Berlin:20190306T210000
DTSTAMP:20260426T001059
CREATED:20190218T083313Z
LAST-MODIFIED:20190218T083313Z
UID:1262-1551895200-1551906000@www.meetxr.de
SUMMARY:AR/MR/VR/XR Meetup in Magdeburg
DESCRIPTION:Liebe AR/MR/VR/XR-Fans\, \nnach etwas mehr als zwei Monaten startet die Magdeburger VR & AR Meetup Reihe am Mittwoch\, den 06. März 2019 in die zweite Runde. Diesmal wird uns die Abtshof Magdeburg GmbH\, in der Brauereistraße\, empfangen und ihre Räumlichkeiten zur Verfügung stellen. \nWie beim letzten Meetup angekündigt\, sollt ihr die Chance haben der Gruppe euch und eure Projekte vorzustellen. Unter den Zuhörern wird auch Marcel Roth vom MDR sein\, der sich sehr auf eure Präsentationen freut. \nFalls ihr Lust habt einen Vortrag zu halten\, gebt uns bitte kurz Bescheid\, damit wir eine grobe Agenda erstellen könne. Bitte schriebt mir (Friedrich) einfach bis zum 4. März 2019 eine Nachricht hier auf meetup oder an f.lueder@silverseedgames.com. \nNatürlich seid ihr herzlich eingeladen eigene Gadgets mitzubringen und wenn ihr wollt zum Austesten zur Verfügung zu stellen. \nAuch VR-Neulinge als auch VR-Experten sind herzlich willkommen. 🙂 \nWir freuen uns auf euer Erscheinen! \nViele Grüße\nFriedrich und Julia
URL:https://www.meetxr.de/event/ar-mr-vr-xr-meetup-in-magdeburg/
LOCATION:Abtshof Magdeburg\, Brauereistraße 2\, Magdeburg\, 39104\, Deutschland
CATEGORIES:talk
END:VEVENT
END:VCALENDAR