BEGIN:VCALENDAR
VERSION:2.0
PRODID:-//meetXR - ECPv5.8.0//NONSGML v1.0//EN
CALSCALE:GREGORIAN
METHOD:PUBLISH
X-WR-CALNAME:meetXR
X-ORIGINAL-URL:https://www.meetxr.de
X-WR-CALDESC:Veranstaltungen für meetXR
BEGIN:VTIMEZONE
TZID:Europe/Berlin
BEGIN:DAYLIGHT
TZOFFSETFROM:+0100
TZOFFSETTO:+0200
TZNAME:CEST
DTSTART:20190331T010000
END:DAYLIGHT
BEGIN:STANDARD
TZOFFSETFROM:+0200
TZOFFSETTO:+0100
TZNAME:CET
DTSTART:20191027T010000
END:STANDARD
END:VTIMEZONE
BEGIN:VEVENT
DTSTART;TZID=Europe/Berlin:20190312T100000
DTEND;TZID=Europe/Berlin:20190312T160000
DTSTAMP:20260425T222136
CREATED:20190105T172743Z
LAST-MODIFIED:20190118T132630Z
UID:937-1552384800-1552406400@www.meetxr.de
SUMMARY:9. VR AR Symposium
DESCRIPTION:Digitale Kontinuität im PLM und Industrie 4.0 Prozess\nDie Anwendungsgebiete für die Virtual\, Augmented und Mixed Reality Technologien in der Industrie werden täglich immer mehr. Von der Planung über die Produktion bis zum Service ist eine durchgängige Datenverfügbarkeit zur Nutzung der spezifischen Daten in den Anwendungen und Prozessen notwendig. \nDigitale Assistenz und optische Kontrolle benötigt digitale Kontinuität zur Optimierung der Arbeitsprozesse und Produktion zur Optimierung von Produkt und Prozess. \nWir wollen uns mit Herstellern\, Kunden und Interessenten in Heidelberg zum Austausch treffen. \nEs erwarten Sie interessante Vorträge aus der Industrie\, Wissenschaft\, Dienstleistern und Herstellern sowie aktuelle Exponate zu den Themen. \nReservieren Sie Ihre Teilnahme und planen Sie diese Veranstaltung als festen Event in Ihren Kalender 2019.
URL:https://www.meetxr.de/event/9-vr-ar-symposium/
LOCATION:SRH Hochschule Heidelberg\, Ludwig-Guttmann-Straße 6\, Heidelberg\, 69123\, Deutschland
CATEGORIES:talk
ATTACH;FMTTYPE=image/jpeg:https://www.meetxr.de/wp-content/uploads/2019/01/2019-03-12_VRARSymposium.jpg
END:VEVENT
END:VCALENDAR