BEGIN:VCALENDAR
VERSION:2.0
PRODID:-//meetXR - ECPv5.8.0//NONSGML v1.0//EN
CALSCALE:GREGORIAN
METHOD:PUBLISH
X-WR-CALNAME:meetXR
X-ORIGINAL-URL:https://www.meetxr.de
X-WR-CALDESC:Veranstaltungen für meetXR
BEGIN:VTIMEZONE
TZID:Europe/Berlin
BEGIN:DAYLIGHT
TZOFFSETFROM:+0100
TZOFFSETTO:+0200
TZNAME:CEST
DTSTART:20190331T010000
END:DAYLIGHT
BEGIN:STANDARD
TZOFFSETFROM:+0200
TZOFFSETTO:+0100
TZNAME:CET
DTSTART:20191027T010000
END:STANDARD
END:VTIMEZONE
BEGIN:VEVENT
DTSTART;TZID=Europe/Berlin:20190612T130000
DTEND;TZID=Europe/Berlin:20190614T160000
DTSTAMP:20260426T013342
CREATED:20190204T181604Z
LAST-MODIFIED:20190204T181604Z
UID:1155-1560344400-1560528000@www.meetxr.de
SUMMARY:5th International AR & VR Conference
DESCRIPTION:An International Conference at Universität der Bundeswehr München (UniBw)\n5th international AR VR Conference. After four years in Manchester (UK) with more than 200 attendeesfrom industry and practice\, we are happy to announce that we will be hosting the 5th edition of this conference in Munich. \n\nScience and Industry Tracks\nSpecial Issue (Journal of Business Research)\nConference Proceedings (Springer Book)\nDoctoral Consortium (Workshops\, Meet-the-Editor Sessions)\nExhibitor Area\nWorkshops on XR for SMEs\nSocial Events (BavARian Night\, Flight Simulator)\nAttractive Location nearby the Alps\n\nAbout the Conference\nMultiple forecasts indicate that the evolution of media and technology will further blur the boundary between the real-word and the virtual world. To better understand how these new realities impact a variety of business and management practices\, the growing and interdisciplinary community of international researcher meets at the international ARVR conference to present and discuss recent advancements in the field. This conference has rapidly developed from a small conference on AR\, VR\, and Mixed Reality to an established conference attracting researchers from business\, tourism\, MIS\, and so forth. The last conference attracted more than 230 people from more than 20 countries to Manchester\, UK. In addition\, keynote speakers from renown companies\, such as Microsoft \, BBC\, PwC\, and Samsung\, discussed new technological developments within the industry; a presentation that continues to attract numerous scholars from around the world.\nIn 2019\, the conference will be held at the Universität der Bundeswehr München\, in Germany\, hosted by Prof. Dr. Philipp Rauschnabel\, chair of the newly founded Professorship of Digital Marketing and Media Innovation. \nMore information and impressions on the previous conferences in Manchester can be found here: Conferences 2015-2018
URL:https://www.meetxr.de/event/5th-international-ar-vr-conference/
LOCATION:Universität der Bundeswehr München\, Werner-Heisenberg-Weg 39\, Neubiberg\, 85577\, Deutschland
CATEGORIES:talk
ATTACH;FMTTYPE=image/jpeg:https://www.meetxr.de/wp-content/uploads/2019/02/2019-06-12_ARVRConference.jpg
ORGANIZER;CN="Philipp%20Rauschnabel":MAILTO:philipp.rauschnabel@gmail.com
END:VEVENT
END:VCALENDAR