BEGIN:VCALENDAR
VERSION:2.0
PRODID:-//meetXR - ECPv5.8.0//NONSGML v1.0//EN
CALSCALE:GREGORIAN
METHOD:PUBLISH
X-WR-CALNAME:meetXR
X-ORIGINAL-URL:https://www.meetxr.de
X-WR-CALDESC:Veranstaltungen für meetXR
BEGIN:VTIMEZONE
TZID:Europe/Berlin
BEGIN:DAYLIGHT
TZOFFSETFROM:+0100
TZOFFSETTO:+0200
TZNAME:CEST
DTSTART:20180325T010000
END:DAYLIGHT
BEGIN:STANDARD
TZOFFSETFROM:+0200
TZOFFSETTO:+0100
TZNAME:CET
DTSTART:20181028T010000
END:STANDARD
END:VTIMEZONE
BEGIN:VEVENT
DTSTART;TZID=Europe/Berlin:20181011T100000
DTEND;TZID=Europe/Berlin:20181012T180000
DTSTAMP:20260425T222811
CREATED:20181012T065701Z
LAST-MODIFIED:20181012T065701Z
UID:745-1539252000-1539367200@www.meetxr.de
SUMMARY:5. Kurt-Schwitters-Symposium: Building Worlds
DESCRIPTION:In nahezu allen Disziplinen des Designs sowie der bildenden und darstellenden Künste spielen Praktiken\, die auf das Eintauchen der Rezipient*innen in eine generierte Welt abzielen\, eine immer größere Rolle. Das 5. Kurt-Schwitters-Symposium für Designtheorie\, das am 11. und 12. Oktober im Design Center stattfindet\, will deutlich machen\, wie weit diese immersiven Praktiken mittlerweile gediehen sind\, was der Begriff der „Immersion“ in den unterschiedlichen Kontexten meint und wie der Zusammenhang zwischen immersiven Phänomenen und den sie hervorbringenden Produktionsprozessen aussieht. \nDetaillierte Informationen\nAn die Stelle der distanzierten Betrachtung setzen immersive Praktiken eine Ästhetik des empathischen körperlichen Erlebens und heben die Grenzen zwischen Betrachtendem und Betrachtetem zeitweilig ebenso auf wie die Trennung von Virtualität und Realität\, Bild und Raum\, Zuschauer*in und Akteur*in. Die Entwicklung von Virtual-Reality-Brillen\, Fulldome-Projektionen\, 3-D-Audio und anderen Technologien\, die mittlerweile in diversen Bereichen zu einer breiten Anwendung kommen\, haben diesen Trend stark beschleunigt. \n\nImmersive Praktiken stehen aber nicht nur für andere Ästhetiken sowie neue Formen der Wahrnehmung von Kunst und Design\, wie sie derzeit kontrovers diskutiert werden. Sie gehen gleichzeitig einher mit anderen\, sehr spezifischen und durchaus folgenreichen Formen des Produzierens. Tradierte Konzepte des Erzählens und Darstellens werden hinfällig\, neue müssen erfunden und erprobt werden. Neue Kompetenzen\, Formen der Zusammenarbeit\, der Prozessstrukturierung und -entwicklung  werden notwendig. \n\nWie verändert sich das künstlerisch-gestalterische Produzieren im Zeichen der Immersion\, wie genau sehen immersive Praktiken in den jeweiligen Bereichen aus\, und was sind die möglichen Folgen dieser Veränderungen? Diesen Fragen soll in zahlreichen Vorträgen\, Workshops und Panels nachgegangen werden\, zu denen nicht nur Theater-\, Medien- und Kulturwissenschaftler*innen\, sondern auch Praktiker*innen aus den unterschiedlichen Bereichen eingeladen sind. Die enge Verzahnung von gestalterischer und künstlerischer Praxis und einer sie reflektierenden Theorie ist den Veranstalter*innen ein besonderes Anliegen. \n  \nHinweise zur Teilnahme\nDas Symposium findet in deutscher Sprache statt.
URL:https://www.meetxr.de/event/5-kurt-schwitters-symposium-building-worlds/
LOCATION:Hochschule Hannover\, Expo Plaza 2\, Hannover\, 30539\, Deutschland
CATEGORIES:talk
ATTACH;FMTTYPE=image/jpeg:https://www.meetxr.de/wp-content/uploads/2018/10/9ed2abc11b.jpeg
END:VEVENT
END:VCALENDAR