BEGIN:VCALENDAR
VERSION:2.0
PRODID:-//meetXR - ECPv5.8.0//NONSGML v1.0//EN
CALSCALE:GREGORIAN
METHOD:PUBLISH
X-WR-CALNAME:meetXR
X-ORIGINAL-URL:https://www.meetxr.de
X-WR-CALDESC:Veranstaltungen für meetXR
BEGIN:VTIMEZONE
TZID:Europe/Berlin
BEGIN:DAYLIGHT
TZOFFSETFROM:+0100
TZOFFSETTO:+0200
TZNAME:CEST
DTSTART:20190331T010000
END:DAYLIGHT
BEGIN:STANDARD
TZOFFSETFROM:+0200
TZOFFSETTO:+0100
TZNAME:CET
DTSTART:20191027T010000
END:STANDARD
END:VTIMEZONE
BEGIN:VEVENT
DTSTART;TZID=Europe/Berlin:20190426T140000
DTEND;TZID=Europe/Berlin:20190426T190000
DTSTAMP:20260426T024728
CREATED:20190205T182539Z
LAST-MODIFIED:20190205T182539Z
UID:1232-1556287200-1556305200@www.meetxr.de
SUMMARY:#15 VR & AR Meetup - Hochschule Mainz
DESCRIPTION:Das #15 VR & AR Meetup findet diesmal an einem Freitag – am 26. April 2019 – in der Hochschule Mainz statt. \nDer grobe Ablauf ähnelt diesmal einer Konferenz – d.h. dass es neben den Hauptvorträgen einen Demo-Floor und (in separaten Räumen) verschiedene Workshops und Vorträge geben wird.\nDas Programm wird derzeit erarbeitet. \nFalls ihr Lust habt einen Vortrag zu halten\, einen (interaktiven) Workshop anzubieten oder eine Demo zu präsentieren\, schreibt mir bitte frühzeitig eine E-Mail: vrankfurt@gmail.com \nViele Grüße\nEuer Fabian
URL:https://www.meetxr.de/event/15-vr-ar-meetup-hochschule-mainz/
LOCATION:Hochschule Mainz\, Lucy-Hillebrand-Straße 2\, Mainz\, 55128\, Deutschland
CATEGORIES:talk
ATTACH;FMTTYPE=image/png:https://www.meetxr.de/wp-content/uploads/2018/08/2018-08-18_VRankfurt.png
END:VEVENT
END:VCALENDAR