BEGIN:VCALENDAR
VERSION:2.0
PRODID:-//meetXR - ECPv5.8.0//NONSGML v1.0//EN
CALSCALE:GREGORIAN
METHOD:PUBLISH
X-WR-CALNAME:meetXR
X-ORIGINAL-URL:https://www.meetxr.de
X-WR-CALDESC:Veranstaltungen für meetXR
BEGIN:VTIMEZONE
TZID:Europe/Berlin
BEGIN:DAYLIGHT
TZOFFSETFROM:+0100
TZOFFSETTO:+0200
TZNAME:CEST
DTSTART:20180325T010000
END:DAYLIGHT
BEGIN:STANDARD
TZOFFSETFROM:+0200
TZOFFSETTO:+0100
TZNAME:CET
DTSTART:20181028T010000
END:STANDARD
END:VTIMEZONE
BEGIN:VEVENT
DTSTART;TZID=Europe/Berlin:20181208T150000
DTEND;TZID=Europe/Berlin:20181208T200000
DTSTAMP:20260426T012012
CREATED:20181102T100139Z
LAST-MODIFIED:20181102T100139Z
UID:787-1544281200-1544299200@www.meetxr.de
SUMMARY:#14 VR & AR Meetup - Weihnachts-Special
DESCRIPTION:Save the date! \nWeihnachts-Special: im Dezember möchten wir zu einem weihnachtlichen #14 VRANKFURT Meetup am Samstag\, den 08. Dezember 2018 um 15 Uhr im INM – Institut für Neue Medien einladen! In gemütlicher Runde gibt es diesmal einen längeren Impulsvortag und viele kurze 5 Minuten-Beiträge von ausgewählten Speakern aus dem Jahr 2018 als Rückblick und Zukunftausblick 2019!\nWir möchten zudem eine Bandbreite an spannenden Demos anbieten und feierlich mit Euch anstoßen! Lasst uns also gemeinsam auf das Jahr 2018 mit Entwicklungen wie der Magic Leap One\, autarke VR Headsets von Lenovo und HTC und hochauflösende Displays zurückblicken und uns auf die kommenden Entwicklungen wie eye-tracking und HoloLens 2 freuen!
URL:https://www.meetxr.de/event/14-vr-ar-meetup-weihnachts-special/
LOCATION:INM-Institut für Neue Medien\, Schmickstraße 18\, Frankfurt am Main\, 60314\, Deutschland
CATEGORIES:talk
ATTACH;FMTTYPE=image/png:https://www.meetxr.de/wp-content/uploads/2018/08/2018-08-18_VRankfurt.png
END:VEVENT
END:VCALENDAR