BEGIN:VCALENDAR
VERSION:2.0
PRODID:-//meetXR - ECPv5.8.0//NONSGML v1.0//EN
CALSCALE:GREGORIAN
METHOD:PUBLISH
X-WR-CALNAME:meetXR
X-ORIGINAL-URL:https://www.meetxr.de
X-WR-CALDESC:Veranstaltungen für meetXR
BEGIN:VTIMEZONE
TZID:Europe/Berlin
BEGIN:DAYLIGHT
TZOFFSETFROM:+0100
TZOFFSETTO:+0200
TZNAME:CEST
DTSTART:20190331T010000
END:DAYLIGHT
BEGIN:STANDARD
TZOFFSETFROM:+0200
TZOFFSETTO:+0100
TZNAME:CET
DTSTART:20191027T010000
END:STANDARD
END:VTIMEZONE
BEGIN:VEVENT
DTSTART;TZID=Europe/Berlin:20190627T080000
DTEND;TZID=Europe/Berlin:20190628T173000
DTSTAMP:20260425T184924
CREATED:20190611T123432Z
LAST-MODIFIED:20190611T123432Z
UID:1695-1561622400-1561743000@www.meetxr.de
SUMMARY:14. Virtual Fires Congress
DESCRIPTION:Der ‘Virtual Fires Congress‘ ist eine jährlich stattfindende\, Länder übergreifende (D-A-CH)\, Fachtagung für Extended Reality (XR)\, Simulation\, Robotik und Thermodynamik im Bereich Safety & Security. \nEr richtet sich an Entscheider\, Leiter und Ausbilder der Landesfeuerwehr-\, Katastrophen-/Bevölkerungsschutz- und Rettungsdienstschulen\, Fach- und Führungskräfte von Berufs-\, Werks- und Freiwilligen Feuerwehren sowie Hilfs- und Rettungsdiensten\, privaten Trainingszentren und Brandschutz- bzw. Sicherheitsdienstleistern sowie aus dem Bereich Verteidigung\, Bundeswehr und Polizei. \nEbenso an alle\, die im Kontext von Sicherheit\, Einsatzplanung und Gefahrenabwehr forschen oder sich über neue digitale Möglichkeiten informieren und Anwendungen testen möchten. \nDarüber hinaus spricht die Veranstaltung Unternehmen an mit Produkten (Soft- & Hardware) aus dem Sicherheits-\, Hilfeleistungs- und Unterstützungssegment sowie Vertreter weiterer themennaher Disziplinen: Versicherungen\, Verbände\, Kommunen\, Forschungs- und Lehreinrichtungen\, Universitäten und Hochschulen mit Studiengängen im Bereich Brand-/Zivilschutz\, Simulation\, Informatik\, Robotik\, KI\, UAS oder Safety & (Cyber-)Security. Auch die Fachpresse\, Redakteure\, Blogger\, Influencer und Social Media Manager sind herzlich Willkommen!
URL:https://www.meetxr.de/event/14-virtual-fires-congress/
LOCATION:Stadthalle St. Georgen\, Im Hochwald 10\, St. Georgen\, 78112\, Deutschland
CATEGORIES:talk
ATTACH;FMTTYPE=image/png:https://www.meetxr.de/wp-content/uploads/2019/06/2019-06-27_VirtualFires.png
ORGANIZER;CN="Virtual%20Dimension%20Center%20TZ%20St.%20Georgen":MAILTO:kontakt@vdc-tz-stgeorgen.de
END:VEVENT
END:VCALENDAR