BEGIN:VCALENDAR
VERSION:2.0
PRODID:-//meetXR - ECPv5.8.0//NONSGML v1.0//EN
CALSCALE:GREGORIAN
METHOD:PUBLISH
X-WR-CALNAME:meetXR
X-ORIGINAL-URL:https://www.meetxr.de
X-WR-CALDESC:Veranstaltungen für meetXR
BEGIN:VTIMEZONE
TZID:Europe/Berlin
BEGIN:DAYLIGHT
TZOFFSETFROM:+0100
TZOFFSETTO:+0200
TZNAME:CEST
DTSTART:20190331T010000
END:DAYLIGHT
BEGIN:STANDARD
TZOFFSETFROM:+0200
TZOFFSETTO:+0100
TZNAME:CET
DTSTART:20191027T010000
END:STANDARD
END:VTIMEZONE
BEGIN:VEVENT
DTSTART;TZID=Europe/Berlin:20190215T163000
DTEND;TZID=Europe/Berlin:20190215T200000
DTSTAMP:20260425T224432
CREATED:20190128T110025Z
LAST-MODIFIED:20190128T110025Z
UID:1120-1550248200-1550260800@www.meetxr.de
SUMMARY:11hoch11 trifft Software & Games
DESCRIPTION:Der erste 11hoch11 2019 wird spielerisch!\nAuf euch wartet ein spannender Abend zum Thema Software und Games im Culture Plex. Wir treffen uns in den Räumlichkeiten der VirtuaLounge und erfahren neues aus den Bereichen Virtual Reality\, E-Sports\, Games und Web-TV. Im Anschluss an die jeweils 11-minütigen Vorträge geht es an die Spielgeräte und wir tauchen ein in die wunderbaren Welten der virtuellen Realität. \nDie kreativen Impulse kommen von:\n\nIrina und Denis\, Geschäftsführer von VirtuaLounge\nJonte und Dominik von SnaleTV\nJohanna von ADD ON\n\nEinlass: 16.30 Uhr\, Beginn: 17 Uhr\nKosten: 11€\, für Mitglieder der KreativRegion ist der Eintritt frei\nMitglieder melden sich bitte verbindlich an unter: office@kreativregion.net\nSnacks und Getränke gegen den kleinen Hunger sind vorhanden. 🙂 \nDie Kultur- und Kreativwirtschaft besteht aus 11 Teilbranchen. Welche sind es? Und welche Unternehmen\, Projekte und Akteure hat die Region in diesen Branchen? 11hoch11 lässt Kreativschaffende aus der Region zu Wort kommen.\nOb Programmierer\, Fotograf\, Künstler\, Architekt oder Musiker: Die Reihe dient als Plattform zur Inspiration\, zum Erfahrungsaustausch und zur Vernetzung. Wir machen die Kreativen der Region sichtbar.
URL:https://www.meetxr.de/event/11hoch11-trifft-software-games/
LOCATION:VirtuaLounge\, Kleine Burg 15\, Braunschweig\, 38100\, Deutschland
CATEGORIES:talk
ATTACH;FMTTYPE=image/jpeg:https://www.meetxr.de/wp-content/uploads/2019/01/2019-02-15_11hoch11.jpg
ORGANIZER;CN="KreativRegion":MAILTO:info@kreativregion.net
END:VEVENT
END:VCALENDAR